BEGIN:VCALENDAR
VERSION:2.0
PRODID:-//RanjSingh.com - ECPv6.9.0//NONSGML v1.0//EN
CALSCALE:GREGORIAN
METHOD:PUBLISH
X-WR-CALNAME:RanjSingh.com
X-ORIGINAL-URL:https://ranjsingh.com
X-WR-CALDESC:Events for RanjSingh.com
REFRESH-INTERVAL;VALUE=DURATION:PT1H
X-Robots-Tag:noindex
X-PUBLISHED-TTL:PT1H
BEGIN:VTIMEZONE
TZID:America/Vancouver
BEGIN:DAYLIGHT
TZOFFSETFROM:-0800
TZOFFSETTO:-0700
TZNAME:PDT
DTSTART:20210314T100000
END:DAYLIGHT
BEGIN:STANDARD
TZOFFSETFROM:-0700
TZOFFSETTO:-0800
TZNAME:PST
DTSTART:20211107T090000
END:STANDARD
END:VTIMEZONE
BEGIN:VEVENT
DTSTART;TZID=America/Vancouver:20211211T140000
DTEND;TZID=America/Vancouver:20211211T180000
DTSTAMP:20260423T035857
CREATED:20211216T235208Z
LAST-MODIFIED:20211216T235208Z
UID:5256-1639231200-1639245600@ranjsingh.com
SUMMARY:Tinhouse Brewing Company
DESCRIPTION:Great selection of craft beer.
URL:https://ranjsingh.com/event/tinhouse-brewing-company-2-4/
LOCATION:Tinhouse Brewing\, 2140 550 Sherling Place\, Port Coquitlam\, Port Coquitlam\, BC\, V3B 0J6\, Canada
END:VEVENT
BEGIN:VEVENT
DTSTART;TZID=America/Vancouver:20211211T140000
DTEND;TZID=America/Vancouver:20211211T180000
DTSTAMP:20260423T035857
CREATED:20211216T235208Z
LAST-MODIFIED:20211216T235208Z
UID:2506-1639231200-1639245600@ranjsingh.com
SUMMARY:Tinhouse Brewing Company
DESCRIPTION:Great selection of craft beer.
URL:https://ranjsingh.com/event/tinhouse-brewing-company-2/
LOCATION:Tinhouse Brewing\, 2140 550 Sherling Place\, Port Coquitlam\, Port Coquitlam\, BC\, V3B 0J6\, Canada
END:VEVENT
BEGIN:VEVENT
DTSTART;TZID=America/Vancouver:20211211T140000
DTEND;TZID=America/Vancouver:20211211T180000
DTSTAMP:20260423T035857
CREATED:20211216T235208Z
LAST-MODIFIED:20211216T235208Z
UID:4608-1639231200-1639245600@ranjsingh.com
SUMMARY:Tinhouse Brewing Company
DESCRIPTION:Great selection of craft beer.
URL:https://ranjsingh.com/event/tinhouse-brewing-company-2-3/
LOCATION:Tinhouse Brewing\, 2140 550 Sherling Place\, Port Coquitlam\, Port Coquitlam\, BC\, V3B 0J6\, Canada
END:VEVENT
BEGIN:VEVENT
DTSTART;TZID=America/Vancouver:20211211T140000
DTEND;TZID=America/Vancouver:20211211T180000
DTSTAMP:20260423T035857
CREATED:20211216T235208Z
LAST-MODIFIED:20211216T235208Z
UID:3539-1639231200-1639245600@ranjsingh.com
SUMMARY:Tinhouse Brewing Company
DESCRIPTION:Great selection of craft beer.
URL:https://ranjsingh.com/event/tinhouse-brewing-company-2-2/
LOCATION:Tinhouse Brewing\, 2140 550 Sherling Place\, Port Coquitlam\, Port Coquitlam\, BC\, V3B 0J6\, Canada
END:VEVENT
BEGIN:VEVENT
DTSTART;TZID=America/Vancouver:20211216T180000
DTEND;TZID=America/Vancouver:20211216T200000
DTSTAMP:20260423T035857
CREATED:20211216T222135Z
LAST-MODIFIED:20211216T222135Z
UID:5231-1639677600-1639684800@ranjsingh.com
SUMMARY:Fieldhouse Brewery
DESCRIPTION:Great Pub Food and this venue supports live music.
URL:https://ranjsingh.com/event/fieldhouse-brewery-4/
LOCATION:Field House Brewing Chilliwack\, 102 9251 Woolly Dog Alley\, Chilliwack\, Chilliwack\, BC\, Canada
END:VEVENT
BEGIN:VEVENT
DTSTART;TZID=America/Vancouver:20211216T180000
DTEND;TZID=America/Vancouver:20211216T200000
DTSTAMP:20260423T035857
CREATED:20211216T222135Z
LAST-MODIFIED:20211216T222135Z
UID:4583-1639677600-1639684800@ranjsingh.com
SUMMARY:Fieldhouse Brewery
DESCRIPTION:Great Pub Food and this venue supports live music.
URL:https://ranjsingh.com/event/fieldhouse-brewery-3/
LOCATION:Field House Brewing Chilliwack\, 102 9251 Woolly Dog Alley\, Chilliwack\, Chilliwack\, BC\, Canada
END:VEVENT
BEGIN:VEVENT
DTSTART;TZID=America/Vancouver:20211216T180000
DTEND;TZID=America/Vancouver:20211216T200000
DTSTAMP:20260423T035857
CREATED:20211216T222135Z
LAST-MODIFIED:20211216T222135Z
UID:3514-1639677600-1639684800@ranjsingh.com
SUMMARY:Fieldhouse Brewery
DESCRIPTION:Great Pub Food and this venue supports live music.
URL:https://ranjsingh.com/event/fieldhouse-brewery-2/
LOCATION:Field House Brewing Chilliwack\, 102 9251 Woolly Dog Alley\, Chilliwack\, Chilliwack\, BC\, Canada
END:VEVENT
BEGIN:VEVENT
DTSTART;TZID=America/Vancouver:20211216T180000
DTEND;TZID=America/Vancouver:20211216T200000
DTSTAMP:20260423T035857
CREATED:20211216T222135Z
LAST-MODIFIED:20211216T222135Z
UID:2432-1639677600-1639684800@ranjsingh.com
SUMMARY:Fieldhouse Brewery
DESCRIPTION:Great Pub Food and this venue supports live music.
URL:https://ranjsingh.com/event/fieldhouse-brewery/
LOCATION:Field House Brewing Chilliwack\, 102 9251 Woolly Dog Alley\, Chilliwack\, Chilliwack\, BC\, Canada
END:VEVENT
BEGIN:VEVENT
DTSTART;TZID=America/Vancouver:20211218T130000
DTEND;TZID=America/Vancouver:20211218T160000
DTSTAMP:20260423T035857
CREATED:20191023T002904Z
LAST-MODIFIED:20191023T002904Z
UID:5218-1639832400-1639843200@ranjsingh.com
SUMMARY:Paddlewheeler Pub
DESCRIPTION:Playing to the pub crowd. Great food and drinks!
URL:https://ranjsingh.com/event/paddlewheeler-pub-7-2-3-2-2-2-2-5/
LOCATION:Paddlewheeler Pub\, 810 Quayside Drive\, New Westminster\, BC\, V3M 6B9\, Canada
CATEGORIES:Shows
END:VEVENT
BEGIN:VEVENT
DTSTART;TZID=America/Vancouver:20211218T130000
DTEND;TZID=America/Vancouver:20211218T160000
DTSTAMP:20260423T035857
CREATED:20191023T002904Z
LAST-MODIFIED:20191023T002904Z
UID:3501-1639832400-1639843200@ranjsingh.com
SUMMARY:Paddlewheeler Pub
DESCRIPTION:Playing to the pub crowd. Great food and drinks!
URL:https://ranjsingh.com/event/paddlewheeler-pub-7-2-3-2-2-2-2-3/
LOCATION:Paddlewheeler Pub\, 810 Quayside Drive\, New Westminster\, BC\, V3M 6B9\, Canada
CATEGORIES:Shows
END:VEVENT
BEGIN:VEVENT
DTSTART;TZID=America/Vancouver:20211218T130000
DTEND;TZID=America/Vancouver:20211218T160000
DTSTAMP:20260423T035857
CREATED:20191023T002904Z
LAST-MODIFIED:20191023T002904Z
UID:4570-1639832400-1639843200@ranjsingh.com
SUMMARY:Paddlewheeler Pub
DESCRIPTION:Playing to the pub crowd. Great food and drinks!
URL:https://ranjsingh.com/event/paddlewheeler-pub-7-2-3-2-2-2-2-4/
LOCATION:Paddlewheeler Pub\, 810 Quayside Drive\, New Westminster\, BC\, V3M 6B9\, Canada
CATEGORIES:Shows
END:VEVENT
BEGIN:VEVENT
DTSTART;TZID=America/Vancouver:20211218T130000
DTEND;TZID=America/Vancouver:20211218T160000
DTSTAMP:20260423T035857
CREATED:20191023T002904Z
LAST-MODIFIED:20191023T002904Z
UID:2390-1639832400-1639843200@ranjsingh.com
SUMMARY:Paddlewheeler Pub
DESCRIPTION:Playing to the pub crowd. Great food and drinks!
URL:https://ranjsingh.com/event/paddlewheeler-pub-7-2-3-2-2-2-2/
LOCATION:Paddlewheeler Pub\, 810 Quayside Drive\, New Westminster\, BC\, V3M 6B9\, Canada
CATEGORIES:Shows
END:VEVENT
END:VCALENDAR