BEGIN:VCALENDAR
VERSION:2.0
PRODID:-//RanjSingh.com - ECPv6.9.0//NONSGML v1.0//EN
CALSCALE:GREGORIAN
METHOD:PUBLISH
X-ORIGINAL-URL:https://ranjsingh.com
X-WR-CALDESC:Events for RanjSingh.com
REFRESH-INTERVAL;VALUE=DURATION:PT1H
X-Robots-Tag:noindex
X-PUBLISHED-TTL:PT1H
BEGIN:VTIMEZONE
TZID:America/Vancouver
BEGIN:DAYLIGHT
TZOFFSETFROM:-0800
TZOFFSETTO:-0700
TZNAME:PDT
DTSTART:20250309T100000
END:DAYLIGHT
BEGIN:STANDARD
TZOFFSETFROM:-0700
TZOFFSETTO:-0800
TZNAME:PST
DTSTART:20251102T090000
END:STANDARD
END:VTIMEZONE
BEGIN:VEVENT
DTSTART;TZID=America/Vancouver:20250307T203000
DTEND;TZID=America/Vancouver:20250307T223000
DTSTAMP:20260420T191024
CREATED:20250225T044618Z
LAST-MODIFIED:20250225T044618Z
UID:7753-1741379400-1741386600@ranjsingh.com
SUMMARY:Pat Quinn's Restaurant & Bar
DESCRIPTION:Pat Quinn’s Restaurant & Bar offers the best in global cuisine using local\, fresh ingredients served in a vibrant\, contemporary setting.Their service is attentive\, warm and unpretentious. The team is passionate about delivering food and experiences that will keep guests coming back again and again.\n\nThe character of the restaurant revolves around the namesake the legendary Pat Quinn – featuring warm wood tones\, intimate booths and iconic patios.\n\nLocated in sunny Tsawwassen\, the restaurant and patio overlooks the fairways of Tsawwassen Springs Golf Course with panoramic views of the towering North Shore mountains.\n\nThe steak\, seafood and casual fare offerings are complimented by a masterfully assembled wine and beer list as well as a full bar featuring classic cocktails.
URL:https://ranjsingh.com/event/pat-quinns-restaurant-bar/
LOCATION:Pat Quinn’s Restaurant & Bar\, 5133 Tsawwassen Springs\, Tsawwassen\, Tsawwassen\, BC\, Canada
END:VEVENT
END:VCALENDAR