BEGIN:VCALENDAR
VERSION:2.0
PRODID:-//RanjSingh.com - ECPv6.9.0//NONSGML v1.0//EN
CALSCALE:GREGORIAN
METHOD:PUBLISH
X-ORIGINAL-URL:https://ranjsingh.com
X-WR-CALDESC:Events for RanjSingh.com
REFRESH-INTERVAL;VALUE=DURATION:PT1H
X-Robots-Tag:noindex
X-PUBLISHED-TTL:PT1H
BEGIN:VTIMEZONE
TZID:America/Vancouver
BEGIN:DAYLIGHT
TZOFFSETFROM:-0800
TZOFFSETTO:-0700
TZNAME:PDT
DTSTART:20230312T100000
END:DAYLIGHT
BEGIN:STANDARD
TZOFFSETFROM:-0700
TZOFFSETTO:-0800
TZNAME:PST
DTSTART:20231105T090000
END:STANDARD
END:VTIMEZONE
BEGIN:VEVENT
DTSTART;TZID=America/Vancouver:20230820T130000
DTEND;TZID=America/Vancouver:20230820T160000
DTSTAMP:20260422T224408
CREATED:20230730T155040Z
LAST-MODIFIED:20230730T155040Z
UID:5901-1692536400-1692547200@ranjsingh.com
SUMMARY:Mylora Executive Golf
DESCRIPTION:Awesome lounge.
URL:https://ranjsingh.com/event/mylora-executive-golf-4/
LOCATION:Mylora Executive Golf Course\, 9911 Sidaway Road\, Richmond\, BC\, V6W 1C1\, Canada
END:VEVENT
END:VCALENDAR