BEGIN:VCALENDAR
VERSION:2.0
PRODID:-//RanjSingh.com - ECPv6.9.0//NONSGML v1.0//EN
CALSCALE:GREGORIAN
METHOD:PUBLISH
X-ORIGINAL-URL:https://ranjsingh.com
X-WR-CALDESC:Events for RanjSingh.com
REFRESH-INTERVAL;VALUE=DURATION:PT1H
X-Robots-Tag:noindex
X-PUBLISHED-TTL:PT1H
BEGIN:VTIMEZONE
TZID:America/Vancouver
BEGIN:DAYLIGHT
TZOFFSETFROM:-0800
TZOFFSETTO:-0700
TZNAME:PDT
DTSTART:20250309T100000
END:DAYLIGHT
BEGIN:STANDARD
TZOFFSETFROM:-0700
TZOFFSETTO:-0800
TZNAME:PST
DTSTART:20251102T090000
END:STANDARD
END:VTIMEZONE
BEGIN:VEVENT
DTSTART;TZID=America/Vancouver:20250920T120000
DTEND;TZID=America/Vancouver:20250920T150000
DTSTAMP:20260422T145235
CREATED:20250903T220748Z
LAST-MODIFIED:20250903T220748Z
UID:8017-1758369600-1758380400@ranjsingh.com
SUMMARY:Scarecrow Festival at Art's Nursery
DESCRIPTION:Fall at Art’s Nursery means one thing…the Scarecrow Festival is back! Now in its 11th year\, this beloved community tradition runs daily from September 20 through Halloween\, bringing together creativity\, family fun\, and festive fall magic.\n\nStroll through 60+ handcrafted scarecrow displays\, from timeless spooky classics to crowd favorites like Cruella\, the Peanuts Gang\, Nightmare Before Christmas\, and Alice in Wonderland. Along the way\, enjoy a Pop-Up Pumpkin Patch\, cozy seasonal displays\, scavenger hunts\, and plenty of photo opportunities to capture the memories.\n\nEvery weekend brings something new\, with live music and rotating food trucks filling the air with flavor and festivity. Whether you’re here for a quick visit or planning a full family outing\, there’s something for everyone.\n\nBest of all\, the Scarecrow Festival is more than just fun—it’s an event that gives back. Proceeds support local charities including OWL (Orphaned Wildlife Rehabilitation Society)\, Inclusion Langley\, Surrey Food Bank\, and St. Vincent de Paul Society. By joining us\, you’re not just celebrating fall— you’re helping strengthen our community.
URL:https://ranjsingh.com/event/scarecrow-festival-at-arts-nursery/
LOCATION:Art’s Nursery Ltd\, 8940 192nd Street\, Surrey\, Surrey\, BC\, Canada
END:VEVENT
BEGIN:VEVENT
DTSTART;TZID=America/Vancouver:20250920T190000
DTEND;TZID=America/Vancouver:20250920T210000
DTSTAMP:20260422T145235
CREATED:20250903T220910Z
LAST-MODIFIED:20250903T220910Z
UID:8020-1758394800-1758402000@ranjsingh.com
SUMMARY:Mr Mikes Steakhouse\, Langley
DESCRIPTION:
URL:https://ranjsingh.com/event/mr-mikes-steakhouse-langley/
LOCATION:Mr Mikes Steakhouse\, Langley\, 300 20020 Willowbrook Drive\, Langley\, Langley\, British Columbia\, V2Y 2T4\, Canada
END:VEVENT
END:VCALENDAR