BEGIN:VCALENDAR
VERSION:2.0
PRODID:-//RanjSingh.com - ECPv6.9.0//NONSGML v1.0//EN
CALSCALE:GREGORIAN
METHOD:PUBLISH
X-WR-CALNAME:RanjSingh.com
X-ORIGINAL-URL:https://ranjsingh.com
X-WR-CALDESC:Events for RanjSingh.com
REFRESH-INTERVAL;VALUE=DURATION:PT1H
X-Robots-Tag:noindex
X-PUBLISHED-TTL:PT1H
BEGIN:VTIMEZONE
TZID:America/Vancouver
BEGIN:DAYLIGHT
TZOFFSETFROM:-0800
TZOFFSETTO:-0700
TZNAME:PDT
DTSTART:20250309T100000
END:DAYLIGHT
BEGIN:STANDARD
TZOFFSETFROM:-0700
TZOFFSETTO:-0800
TZNAME:PST
DTSTART:20251102T090000
END:STANDARD
END:VTIMEZONE
BEGIN:VEVENT
DTSTART;TZID=America/Vancouver:20250907T130000
DTEND;TZID=America/Vancouver:20250907T160000
DTSTAMP:20260419T161529
CREATED:20250903T215454Z
LAST-MODIFIED:20250903T215454Z
UID:7998-1757250000-1757260800@ranjsingh.com
SUMMARY:Feast of Fields
DESCRIPTION:Feast of Fields is a three-hour wandering harvest festival that highlights the connections between farmers and chefs\, field and table\, and farm folks and city folks. With a wine glass and napkin in hand\, you’ll stroll across a field\, travelling from tent to tent wandering from food and beverage experiences presented and carefully created\, listening to live music\, and tasting gourmet creations from some of the Lower Mainland’s top chefs\, bakers\, food artisans\, vintners\, brewers\, distillers and other beverage producers. Your ticket price covers all food and beverages.\n\nThe 30th Annual Metro Vancouver Feast of Fields will be hosted at UBC Farm in Vancouver on Sunday\, September 7th. VIP starts at 12 pm and general admission from 1 pm – 4 pm.
URL:https://ranjsingh.com/event/feast-of-fields/
LOCATION:UBC Farm\, Vancouver\, BC
END:VEVENT
END:VCALENDAR