BEGIN:VCALENDAR
VERSION:2.0
PRODID:-//RanjSingh.com - ECPv6.9.0//NONSGML v1.0//EN
CALSCALE:GREGORIAN
METHOD:PUBLISH
X-WR-CALNAME:RanjSingh.com
X-ORIGINAL-URL:https://ranjsingh.com
X-WR-CALDESC:Events for RanjSingh.com
REFRESH-INTERVAL;VALUE=DURATION:PT1H
X-Robots-Tag:noindex
X-PUBLISHED-TTL:PT1H
BEGIN:VTIMEZONE
TZID:America/Vancouver
BEGIN:DAYLIGHT
TZOFFSETFROM:-0800
TZOFFSETTO:-0700
TZNAME:PDT
DTSTART:20250309T100000
END:DAYLIGHT
BEGIN:STANDARD
TZOFFSETFROM:-0700
TZOFFSETTO:-0800
TZNAME:PST
DTSTART:20251102T090000
END:STANDARD
END:VTIMEZONE
BEGIN:VEVENT
DTSTART;TZID=America/Vancouver:20250905T170000
DTEND;TZID=America/Vancouver:20250905T190000
DTSTAMP:20260419T195137
CREATED:20250903T215111Z
LAST-MODIFIED:20250903T215111Z
UID:7994-1757091600-1757098800@ranjsingh.com
SUMMARY:Lulu Island Winery
DESCRIPTION:
URL:https://ranjsingh.com/event/lulu-island-winery/
LOCATION:Lulu Island Winery\, 16880 Westminster Highway\, Richmond\, BC\, V6V 1A8\, Canada
END:VEVENT
BEGIN:VEVENT
DTSTART;TZID=America/Vancouver:20250906T203000
DTEND;TZID=America/Vancouver:20250906T223000
DTSTAMP:20260419T195137
CREATED:20250903T215206Z
LAST-MODIFIED:20250903T215206Z
UID:7996-1757190600-1757197800@ranjsingh.com
SUMMARY:Pat Quinn's Restaurant & Bar
DESCRIPTION:
URL:https://ranjsingh.com/event/pat-quinns-restaurant-bar-6/
LOCATION:Pat Quinn’s Restaurant & Bar\, 5133 Tsawwassen Springs\, Tsawwassen\, Tsawwassen\, BC\, Canada
END:VEVENT
BEGIN:VEVENT
DTSTART;TZID=America/Vancouver:20250907T130000
DTEND;TZID=America/Vancouver:20250907T160000
DTSTAMP:20260419T195137
CREATED:20250903T215454Z
LAST-MODIFIED:20250903T215454Z
UID:7998-1757250000-1757260800@ranjsingh.com
SUMMARY:Feast of Fields
DESCRIPTION:Feast of Fields is a three-hour wandering harvest festival that highlights the connections between farmers and chefs\, field and table\, and farm folks and city folks. With a wine glass and napkin in hand\, you’ll stroll across a field\, travelling from tent to tent wandering from food and beverage experiences presented and carefully created\, listening to live music\, and tasting gourmet creations from some of the Lower Mainland’s top chefs\, bakers\, food artisans\, vintners\, brewers\, distillers and other beverage producers. Your ticket price covers all food and beverages.\n\nThe 30th Annual Metro Vancouver Feast of Fields will be hosted at UBC Farm in Vancouver on Sunday\, September 7th. VIP starts at 12 pm and general admission from 1 pm – 4 pm.
URL:https://ranjsingh.com/event/feast-of-fields/
LOCATION:UBC Farm\, Vancouver\, BC
END:VEVENT
BEGIN:VEVENT
DTSTART;TZID=America/Vancouver:20250911T190000
DTEND;TZID=America/Vancouver:20250911T210000
DTSTAMP:20260419T195137
CREATED:20250903T215738Z
LAST-MODIFIED:20250903T215738Z
UID:8001-1757617200-1757624400@ranjsingh.com
SUMMARY:Minnoz Restaurant & Lounge
DESCRIPTION:
URL:https://ranjsingh.com/event/minnoz-restaurant-lounge/
LOCATION:Minnoz Restaurant & Lounge\, 11 Bastion Street\, Nanaimo\, BC\, V6E 2P4
END:VEVENT
BEGIN:VEVENT
DTSTART;TZID=America/Vancouver:20250912T180000
DTEND;TZID=America/Vancouver:20250912T210000
DTSTAMP:20260419T195137
CREATED:20250903T215907Z
LAST-MODIFIED:20250903T215907Z
UID:8004-1757700000-1757710800@ranjsingh.com
SUMMARY:Morrison Cafe & Bar\, Five Corners
DESCRIPTION:
URL:https://ranjsingh.com/event/morrison-cafe-bar-five-corners-8/
LOCATION:Morrison Cafe & Bar\, Five Corners\, Unit 1 15223 Pacific Avenue\, White Rock\, BC\, V4B 1P8\, Canada
END:VEVENT
BEGIN:VEVENT
DTSTART;TZID=America/Vancouver:20250913T100000
DTEND;TZID=America/Vancouver:20250913T123000
DTSTAMP:20260419T195137
CREATED:20250903T220041Z
LAST-MODIFIED:20250903T220041Z
UID:8006-1757757600-1757766600@ranjsingh.com
SUMMARY:Cloverdale Market Days
DESCRIPTION:I’ll be performing at the Cloverdale Market at 10:00am. Cloverdale has a vibrant and diverse neighbourhood\, and is one of Surrey’s oldest communities. We invite you to come and explore Cloverdale’s historic past and it’s new and exciting shops and restaurants. Through our Cloverdale Market Days events\, we provide local residents and visitors with an open-air market experience where they can purchase a variety of fresh locally grown and prepared foods\, visit local artist exhibitions\, and enjoy the many family fun activities\, restaurants\, and shops that Cloverdale has to offer.
URL:https://ranjsingh.com/event/cloverdale-market-days-20/
LOCATION:Cloverdale Market Days\, Cloverdale\, Surrey\, British Columbia\, Canada
END:VEVENT
BEGIN:VEVENT
DTSTART;TZID=America/Vancouver:20250914T180000
DTEND;TZID=America/Vancouver:20250914T200000
DTSTAMP:20260419T195137
CREATED:20250903T220220Z
LAST-MODIFIED:20250903T220220Z
UID:8010-1757872800-1757880000@ranjsingh.com
SUMMARY:Wedding (Private Event)
DESCRIPTION:
URL:https://ranjsingh.com/event/wedding-private-event/
LOCATION:Parksville
END:VEVENT
BEGIN:VEVENT
DTSTART;TZID=America/Vancouver:20250920T120000
DTEND;TZID=America/Vancouver:20250920T150000
DTSTAMP:20260419T195137
CREATED:20250903T220748Z
LAST-MODIFIED:20250903T220748Z
UID:8017-1758369600-1758380400@ranjsingh.com
SUMMARY:Scarecrow Festival at Art's Nursery
DESCRIPTION:Fall at Art’s Nursery means one thing…the Scarecrow Festival is back! Now in its 11th year\, this beloved community tradition runs daily from September 20 through Halloween\, bringing together creativity\, family fun\, and festive fall magic.\n\nStroll through 60+ handcrafted scarecrow displays\, from timeless spooky classics to crowd favorites like Cruella\, the Peanuts Gang\, Nightmare Before Christmas\, and Alice in Wonderland. Along the way\, enjoy a Pop-Up Pumpkin Patch\, cozy seasonal displays\, scavenger hunts\, and plenty of photo opportunities to capture the memories.\n\nEvery weekend brings something new\, with live music and rotating food trucks filling the air with flavor and festivity. Whether you’re here for a quick visit or planning a full family outing\, there’s something for everyone.\n\nBest of all\, the Scarecrow Festival is more than just fun—it’s an event that gives back. Proceeds support local charities including OWL (Orphaned Wildlife Rehabilitation Society)\, Inclusion Langley\, Surrey Food Bank\, and St. Vincent de Paul Society. By joining us\, you’re not just celebrating fall— you’re helping strengthen our community.
URL:https://ranjsingh.com/event/scarecrow-festival-at-arts-nursery/
LOCATION:Art’s Nursery Ltd\, 8940 192nd Street\, Surrey\, Surrey\, BC\, Canada
END:VEVENT
BEGIN:VEVENT
DTSTART;TZID=America/Vancouver:20250920T190000
DTEND;TZID=America/Vancouver:20250920T210000
DTSTAMP:20260419T195137
CREATED:20250903T220910Z
LAST-MODIFIED:20250903T220910Z
UID:8020-1758394800-1758402000@ranjsingh.com
SUMMARY:Mr Mikes Steakhouse\, Langley
DESCRIPTION:
URL:https://ranjsingh.com/event/mr-mikes-steakhouse-langley/
LOCATION:Mr Mikes Steakhouse\, Langley\, 300 20020 Willowbrook Drive\, Langley\, Langley\, British Columbia\, V2Y 2T4\, Canada
END:VEVENT
BEGIN:VEVENT
DTSTART;TZID=America/Vancouver:20250924T183000
DTEND;TZID=America/Vancouver:20250924T213000
DTSTAMP:20260419T195137
CREATED:20250903T221027Z
LAST-MODIFIED:20250903T221027Z
UID:8022-1758738600-1758749400@ranjsingh.com
SUMMARY:Voyagers Dinner\, Ticketed Event
DESCRIPTION:
URL:https://ranjsingh.com/event/voyagers-dinner-ticketed-event/
LOCATION:Fort Pub\, 9273 Glover Road\, Langley Twn\, BC\, V1M 2R6\, Canada
END:VEVENT
BEGIN:VEVENT
DTSTART;TZID=America/Vancouver:20250925T143000
DTEND;TZID=America/Vancouver:20250925T153000
DTSTAMP:20260419T195137
CREATED:20250903T221119Z
LAST-MODIFIED:20250903T221119Z
UID:8024-1758810600-1758814200@ranjsingh.com
SUMMARY:Senior's Home\, Burnaby
DESCRIPTION:
URL:https://ranjsingh.com/event/seniors-home-burnaby-2/
LOCATION:BC
END:VEVENT
BEGIN:VEVENT
DTSTART;TZID=America/Vancouver:20250926T180000
DTEND;TZID=America/Vancouver:20250926T210000
DTSTAMP:20260419T195137
CREATED:20250903T221239Z
LAST-MODIFIED:20250903T221239Z
UID:8026-1758909600-1758920400@ranjsingh.com
SUMMARY:Newland's Golf & Country Club
DESCRIPTION:
URL:https://ranjsingh.com/event/newlands-golf-country-club-20/
LOCATION:Newland’s Golf & Country Club\, 21025 48 Avenue\, Langley\, Langley\, BC\, V3A 3M3\, Canada
END:VEVENT
END:VCALENDAR