BEGIN:VCALENDAR
VERSION:2.0
PRODID:-//RanjSingh.com - ECPv6.9.0//NONSGML v1.0//EN
CALSCALE:GREGORIAN
METHOD:PUBLISH
X-WR-CALNAME:RanjSingh.com
X-ORIGINAL-URL:https://ranjsingh.com
X-WR-CALDESC:Events for RanjSingh.com
REFRESH-INTERVAL;VALUE=DURATION:PT1H
X-Robots-Tag:noindex
X-PUBLISHED-TTL:PT1H
BEGIN:VTIMEZONE
TZID:America/Vancouver
BEGIN:DAYLIGHT
TZOFFSETFROM:-0800
TZOFFSETTO:-0700
TZNAME:PDT
DTSTART:20220313T100000
END:DAYLIGHT
BEGIN:STANDARD
TZOFFSETFROM:-0700
TZOFFSETTO:-0800
TZNAME:PST
DTSTART:20221106T090000
END:STANDARD
END:VTIMEZONE
BEGIN:VEVENT
DTSTART;TZID=America/Vancouver:20220528T150000
DTEND;TZID=America/Vancouver:20220528T170000
DTSTAMP:20260424T072520
CREATED:20220520T053514Z
LAST-MODIFIED:20220520T053514Z
UID:3546-1653750000-1653757200@ranjsingh.com
SUMMARY:Arts In The Garden
DESCRIPTION:A tour of a beautiful garden with live music.
URL:https://ranjsingh.com/event/arts-in-the-garden-3/
LOCATION:Garden 6\, 751 Donegal Place\, North Vancouver\, BC\, Canada
END:VEVENT
BEGIN:VEVENT
DTSTART;TZID=America/Vancouver:20220528T150000
DTEND;TZID=America/Vancouver:20220528T170000
DTSTAMP:20260424T072520
CREATED:20220520T053514Z
LAST-MODIFIED:20220520T053514Z
UID:4617-1653750000-1653757200@ranjsingh.com
SUMMARY:Arts In The Garden
DESCRIPTION:A tour of a beautiful garden with live music.
URL:https://ranjsingh.com/event/arts-in-the-garden-4/
LOCATION:Garden 6\, 751 Donegal Place\, North Vancouver\, BC\, Canada
END:VEVENT
BEGIN:VEVENT
DTSTART;TZID=America/Vancouver:20220528T150000
DTEND;TZID=America/Vancouver:20220528T170000
DTSTAMP:20260424T072520
CREATED:20220520T053514Z
LAST-MODIFIED:20220520T053514Z
UID:2546-1653750000-1653757200@ranjsingh.com
SUMMARY:Arts In The Garden
DESCRIPTION:A tour of a beautiful garden with live music.
URL:https://ranjsingh.com/event/arts-in-the-garden/
LOCATION:Garden 6\, 751 Donegal Place\, North Vancouver\, BC\, Canada
END:VEVENT
BEGIN:VEVENT
DTSTART;TZID=America/Vancouver:20220528T100000
DTEND;TZID=America/Vancouver:20220528T130000
DTSTAMP:20260424T072520
CREATED:20220520T050339Z
LAST-MODIFIED:20220520T050339Z
UID:5263-1653732000-1653742800@ranjsingh.com
SUMMARY:Cloverdale Market Days
DESCRIPTION:Outdoor market with streets closed off in Cloverdale. Lots of vendors\, live music and free!!\n\nI’ll be playing 10am til 1 pm.
URL:https://ranjsingh.com/event/cloverdale-market-days-6-4/
LOCATION:Cloverdale Downtown
END:VEVENT
BEGIN:VEVENT
DTSTART;TZID=America/Vancouver:20220528T100000
DTEND;TZID=America/Vancouver:20220528T130000
DTSTAMP:20260424T072520
CREATED:20220520T050339Z
LAST-MODIFIED:20220520T050339Z
UID:3544-1653732000-1653742800@ranjsingh.com
SUMMARY:Cloverdale Market Days
DESCRIPTION:Outdoor market with streets closed off in Cloverdale. Lots of vendors\, live music and free!!\n\nI’ll be playing 10am til 1 pm.
URL:https://ranjsingh.com/event/cloverdale-market-days-6-2/
LOCATION:Cloverdale Downtown
END:VEVENT
BEGIN:VEVENT
DTSTART;TZID=America/Vancouver:20220528T100000
DTEND;TZID=America/Vancouver:20220528T130000
DTSTAMP:20260424T072520
CREATED:20220520T050339Z
LAST-MODIFIED:20220520T050339Z
UID:4615-1653732000-1653742800@ranjsingh.com
SUMMARY:Cloverdale Market Days
DESCRIPTION:Outdoor market with streets closed off in Cloverdale. Lots of vendors\, live music and free!!\n\nI’ll be playing 10am til 1 pm.
URL:https://ranjsingh.com/event/cloverdale-market-days-6-3/
LOCATION:Cloverdale Downtown
END:VEVENT
BEGIN:VEVENT
DTSTART;TZID=America/Vancouver:20220528T100000
DTEND;TZID=America/Vancouver:20220528T130000
DTSTAMP:20260424T072520
CREATED:20220520T050339Z
LAST-MODIFIED:20220520T050339Z
UID:2539-1653732000-1653742800@ranjsingh.com
SUMMARY:Cloverdale Market Days
DESCRIPTION:Outdoor market with streets closed off in Cloverdale. Lots of vendors\, live music and free!!\n\nI’ll be playing 10am til 1 pm.
URL:https://ranjsingh.com/event/cloverdale-market-days-6/
LOCATION:Cloverdale Downtown
END:VEVENT
BEGIN:VEVENT
DTSTART;TZID=America/Vancouver:20220526T160000
DTEND;TZID=America/Vancouver:20220526T190000
DTSTAMP:20260424T072520
CREATED:20220520T045748Z
LAST-MODIFIED:20220520T045748Z
UID:5262-1653580800-1653591600@ranjsingh.com
SUMMARY:@ Gracie's Next Door
DESCRIPTION:No cover\, great food!
URL:https://ranjsingh.com/event/gracies-next-door-5-4/
LOCATION:Gracie’s Next Door\, 1127 56th Street\, Delta\, Delta\, BC\, Canada
CATEGORIES:Shows
END:VEVENT
BEGIN:VEVENT
DTSTART;TZID=America/Vancouver:20220526T160000
DTEND;TZID=America/Vancouver:20220526T190000
DTSTAMP:20260424T072520
CREATED:20220520T045748Z
LAST-MODIFIED:20220520T045748Z
UID:3543-1653580800-1653591600@ranjsingh.com
SUMMARY:@ Gracie's Next Door
DESCRIPTION:No cover\, great food!
URL:https://ranjsingh.com/event/gracies-next-door-5-2/
LOCATION:Gracie’s Next Door\, 1127 56th Street\, Delta\, Delta\, BC\, Canada
CATEGORIES:Shows
END:VEVENT
BEGIN:VEVENT
DTSTART;TZID=America/Vancouver:20220526T160000
DTEND;TZID=America/Vancouver:20220526T190000
DTSTAMP:20260424T072520
CREATED:20220520T045748Z
LAST-MODIFIED:20220520T045748Z
UID:4614-1653580800-1653591600@ranjsingh.com
SUMMARY:@ Gracie's Next Door
DESCRIPTION:No cover\, great food!
URL:https://ranjsingh.com/event/gracies-next-door-5-3/
LOCATION:Gracie’s Next Door\, 1127 56th Street\, Delta\, Delta\, BC\, Canada
CATEGORIES:Shows
END:VEVENT
BEGIN:VEVENT
DTSTART;TZID=America/Vancouver:20220526T160000
DTEND;TZID=America/Vancouver:20220526T190000
DTSTAMP:20260424T072520
CREATED:20220520T045748Z
LAST-MODIFIED:20220520T045748Z
UID:2537-1653580800-1653591600@ranjsingh.com
SUMMARY:@ Gracie's Next Door
DESCRIPTION:No cover\, great food!
URL:https://ranjsingh.com/event/gracies-next-door-5/
LOCATION:Gracie’s Next Door\, 1127 56th Street\, Delta\, Delta\, BC\, Canada
CATEGORIES:Shows
END:VEVENT
BEGIN:VEVENT
DTSTART;TZID=America/Vancouver:20220525T140000
DTEND;TZID=America/Vancouver:20220525T150000
DTSTAMP:20260424T072520
CREATED:20220520T045308Z
LAST-MODIFIED:20220520T045308Z
UID:5261-1653487200-1653490800@ranjsingh.com
SUMMARY:Seniors Home
DESCRIPTION:
URL:https://ranjsingh.com/event/seniors-home-4/
LOCATION:BC
END:VEVENT
BEGIN:VEVENT
DTSTART;TZID=America/Vancouver:20220525T140000
DTEND;TZID=America/Vancouver:20220525T150000
DTSTAMP:20260424T072520
CREATED:20220520T045308Z
LAST-MODIFIED:20220520T045308Z
UID:2532-1653487200-1653490800@ranjsingh.com
SUMMARY:Seniors Home
DESCRIPTION:
URL:https://ranjsingh.com/event/seniors-home-2/
LOCATION:BC
END:VEVENT
BEGIN:VEVENT
DTSTART;TZID=America/Vancouver:20220525T140000
DTEND;TZID=America/Vancouver:20220525T150000
DTSTAMP:20260424T072520
CREATED:20220520T045308Z
LAST-MODIFIED:20220520T045308Z
UID:4613-1653487200-1653490800@ranjsingh.com
SUMMARY:Seniors Home
DESCRIPTION:
URL:https://ranjsingh.com/event/seniors-home-3/
LOCATION:BC
END:VEVENT
BEGIN:VEVENT
DTSTART;TZID=America/Vancouver:20220525T140000
DTEND;TZID=America/Vancouver:20220525T150000
DTSTAMP:20260424T072520
CREATED:20220520T045308Z
LAST-MODIFIED:20220520T045308Z
UID:2589-1653487200-1653490800@ranjsingh.com
SUMMARY:Seniors Home
DESCRIPTION:
URL:https://ranjsingh.com/event/seniors-home/
LOCATION:BC
END:VEVENT
BEGIN:VEVENT
DTSTART;TZID=America/Vancouver:20220521T130000
DTEND;TZID=America/Vancouver:20220521T163000
DTSTAMP:20260424T072520
CREATED:20220519T192602Z
LAST-MODIFIED:20220519T192602Z
UID:2588-1653138000-1653150600@ranjsingh.com
SUMMARY:@ Paddlewheeler Pub
DESCRIPTION:Best patio and great food! No cover.
URL:https://ranjsingh.com/event/paddlewheeler-pub-2022-05-21/
LOCATION:Paddlewheeler Pub\, 810 Quayside Drive\, New Westminster\, BC\, Canada
END:VEVENT
BEGIN:VEVENT
DTSTART;TZID=America/Vancouver:20220521T130000
DTEND;TZID=America/Vancouver:20220521T163000
DTSTAMP:20260424T072520
CREATED:20220519T192602Z
LAST-MODIFIED:20220519T192602Z
UID:4612-1653138000-1653150600@ranjsingh.com
SUMMARY:@ Paddlewheeler Pub
DESCRIPTION:Best patio and great food! No cover.
URL:https://ranjsingh.com/event/paddlewheeler-pub-2022-05-21-3/
LOCATION:Paddlewheeler Pub\, 810 Quayside Drive\, New Westminster\, BC\, Canada
END:VEVENT
BEGIN:VEVENT
DTSTART;TZID=America/Vancouver:20220521T130000
DTEND;TZID=America/Vancouver:20220521T163000
DTSTAMP:20260424T072520
CREATED:20220519T192602Z
LAST-MODIFIED:20220519T192602Z
UID:2529-1653138000-1653150600@ranjsingh.com
SUMMARY:@ Paddlewheeler Pub
DESCRIPTION:Best patio and great food! No cover.
URL:https://ranjsingh.com/event/paddlewheeler-pub-2022-05-21-2/
LOCATION:Paddlewheeler Pub\, 810 Quayside Drive\, New Westminster\, BC\, Canada
END:VEVENT
BEGIN:VEVENT
DTSTART;TZID=America/Vancouver:20220521T130000
DTEND;TZID=America/Vancouver:20220521T163000
DTSTAMP:20260424T072520
CREATED:20220519T192602Z
LAST-MODIFIED:20220519T192602Z
UID:5260-1653138000-1653150600@ranjsingh.com
SUMMARY:@ Paddlewheeler Pub
DESCRIPTION:Best patio and great food! No cover.
URL:https://ranjsingh.com/event/paddlewheeler-pub-2022-05-21-4/
LOCATION:Paddlewheeler Pub\, 810 Quayside Drive\, New Westminster\, BC\, Canada
END:VEVENT
BEGIN:VEVENT
DTSTART;TZID=America/Vancouver:20220520T160000
DTEND;TZID=America/Vancouver:20220520T190000
DTSTAMP:20260424T072520
CREATED:20220519T190224Z
LAST-MODIFIED:20220519T190224Z
UID:5259-1653062400-1653073200@ranjsingh.com
SUMMARY:@ Gracie's Next Door
DESCRIPTION:No cover\, great food!
URL:https://ranjsingh.com/event/gracies-2022-05-20-4/
LOCATION:Gracie’s Next Door\, 1127 56th Street\, Delta\, Delta\, BC\, Canada
END:VEVENT
BEGIN:VEVENT
DTSTART;TZID=America/Vancouver:20220520T160000
DTEND;TZID=America/Vancouver:20220520T190000
DTSTAMP:20260424T072520
CREATED:20220519T190224Z
LAST-MODIFIED:20220519T190224Z
UID:2519-1653062400-1653073200@ranjsingh.com
SUMMARY:@ Gracie's Next Door
DESCRIPTION:No cover\, great food!
URL:https://ranjsingh.com/event/gracies-2022-05-20/
LOCATION:Gracie’s Next Door\, 1127 56th Street\, Delta\, Delta\, BC\, Canada
END:VEVENT
BEGIN:VEVENT
DTSTART;TZID=America/Vancouver:20220520T160000
DTEND;TZID=America/Vancouver:20220520T190000
DTSTAMP:20260424T072520
CREATED:20220519T190224Z
LAST-MODIFIED:20220519T190224Z
UID:4611-1653062400-1653073200@ranjsingh.com
SUMMARY:@ Gracie's Next Door
DESCRIPTION:No cover\, great food!
URL:https://ranjsingh.com/event/gracies-2022-05-20-3/
LOCATION:Gracie’s Next Door\, 1127 56th Street\, Delta\, Delta\, BC\, Canada
END:VEVENT
BEGIN:VEVENT
DTSTART;TZID=America/Vancouver:20220520T160000
DTEND;TZID=America/Vancouver:20220520T190000
DTSTAMP:20260424T072520
CREATED:20220519T190224Z
LAST-MODIFIED:20220519T190224Z
UID:3542-1653062400-1653073200@ranjsingh.com
SUMMARY:@ Gracie's Next Door
DESCRIPTION:No cover\, great food!
URL:https://ranjsingh.com/event/gracies-2022-05-20-2/
LOCATION:Gracie’s Next Door\, 1127 56th Street\, Delta\, Delta\, BC\, Canada
END:VEVENT
BEGIN:VEVENT
DTSTART;TZID=America/Vancouver:20220520T103000
DTEND;TZID=America/Vancouver:20220520T113000
DTSTAMP:20260424T072520
CREATED:20220520T053838Z
LAST-MODIFIED:20220520T053838Z
UID:5267-1653042600-1653046200@ranjsingh.com
SUMMARY:Private event for folks with disabilities
DESCRIPTION:Love playing these gigs.
URL:https://ranjsingh.com/event/private-event-for-folks-with-disabilities-4/
LOCATION:BC
END:VEVENT
BEGIN:VEVENT
DTSTART;TZID=America/Vancouver:20220520T103000
DTEND;TZID=America/Vancouver:20220520T113000
DTSTAMP:20260424T072520
CREATED:20220520T053838Z
LAST-MODIFIED:20220520T053838Z
UID:2551-1653042600-1653046200@ranjsingh.com
SUMMARY:Private event for folks with disabilities
DESCRIPTION:Love playing these gigs.
URL:https://ranjsingh.com/event/private-event-for-folks-with-disabilities/
LOCATION:BC
END:VEVENT
BEGIN:VEVENT
DTSTART;TZID=America/Vancouver:20220520T103000
DTEND;TZID=America/Vancouver:20220520T113000
DTSTAMP:20260424T072520
CREATED:20220520T053838Z
LAST-MODIFIED:20220520T053838Z
UID:4619-1653042600-1653046200@ranjsingh.com
SUMMARY:Private event for folks with disabilities
DESCRIPTION:Love playing these gigs.
URL:https://ranjsingh.com/event/private-event-for-folks-with-disabilities-3/
LOCATION:BC
END:VEVENT
BEGIN:VEVENT
DTSTART;TZID=America/Vancouver:20220520T103000
DTEND;TZID=America/Vancouver:20220520T113000
DTSTAMP:20260424T072520
CREATED:20220520T053838Z
LAST-MODIFIED:20220520T053838Z
UID:3548-1653042600-1653046200@ranjsingh.com
SUMMARY:Private event for folks with disabilities
DESCRIPTION:Love playing these gigs.
URL:https://ranjsingh.com/event/private-event-for-folks-with-disabilities-2/
LOCATION:BC
END:VEVENT
BEGIN:VEVENT
DTSTART;TZID=America/Vancouver:20220218T180000
DTEND;TZID=America/Vancouver:20220218T210000
DTSTAMP:20260424T072520
CREATED:20211216T232125Z
LAST-MODIFIED:20211216T232125Z
UID:5246-1645207200-1645218000@ranjsingh.com
SUMMARY:Trading Post Abbotsford
DESCRIPTION:Great pub with good eats and drinks.
URL:https://ranjsingh.com/event/trading-post-abbotsford-5/
LOCATION:Trading Post Abbotsford\, 3058 Gladwin Road\, Abboysford\, BC\, Canada
END:VEVENT
BEGIN:VEVENT
DTSTART;TZID=America/Vancouver:20220218T180000
DTEND;TZID=America/Vancouver:20220218T210000
DTSTAMP:20260424T072520
CREATED:20211216T232125Z
LAST-MODIFIED:20211216T232125Z
UID:2480-1645207200-1645218000@ranjsingh.com
SUMMARY:Trading Post Abbotsford
DESCRIPTION:Great pub with good eats and drinks.
URL:https://ranjsingh.com/event/trading-post-abbotsford/
LOCATION:Trading Post Abbotsford\, 3058 Gladwin Road\, Abboysford\, BC\, Canada
END:VEVENT
BEGIN:VEVENT
DTSTART;TZID=America/Vancouver:20220218T180000
DTEND;TZID=America/Vancouver:20220218T210000
DTSTAMP:20260424T072520
CREATED:20211216T232125Z
LAST-MODIFIED:20211216T232125Z
UID:4598-1645207200-1645218000@ranjsingh.com
SUMMARY:Trading Post Abbotsford
DESCRIPTION:Great pub with good eats and drinks.
URL:https://ranjsingh.com/event/trading-post-abbotsford-4/
LOCATION:Trading Post Abbotsford\, 3058 Gladwin Road\, Abboysford\, BC\, Canada
END:VEVENT
END:VCALENDAR