BEGIN:VCALENDAR
VERSION:2.0
PRODID:-//RanjSingh.com - ECPv6.9.0//NONSGML v1.0//EN
CALSCALE:GREGORIAN
METHOD:PUBLISH
X-WR-CALNAME:RanjSingh.com
X-ORIGINAL-URL:https://ranjsingh.com
X-WR-CALDESC:Events for RanjSingh.com
REFRESH-INTERVAL;VALUE=DURATION:PT1H
X-Robots-Tag:noindex
X-PUBLISHED-TTL:PT1H
BEGIN:VTIMEZONE
TZID:America/Vancouver
BEGIN:DAYLIGHT
TZOFFSETFROM:-0800
TZOFFSETTO:-0700
TZNAME:PDT
DTSTART:20250309T100000
END:DAYLIGHT
BEGIN:STANDARD
TZOFFSETFROM:-0700
TZOFFSETTO:-0800
TZNAME:PST
DTSTART:20251102T090000
END:STANDARD
END:VTIMEZONE
BEGIN:VEVENT
DTSTART;TZID=America/Vancouver:20250515T180000
DTEND;TZID=America/Vancouver:20250515T210000
DTSTAMP:20260419T130457
CREATED:20250504T044902Z
LAST-MODIFIED:20250504T044902Z
UID:7808-1747332000-1747342800@ranjsingh.com
SUMMARY:Foamer's Folly Brewing Co.
DESCRIPTION:
URL:https://ranjsingh.com/event/foamers-folly-brewing-co-9/
LOCATION:Foamers’ Folly Brewing Co.\, 19221 122A Ave.\, Pitt Meadows\, Pitt Meadows\, BC\, V3V 2E9\, Canada
END:VEVENT
BEGIN:VEVENT
DTSTART;TZID=America/Vancouver:20250510T173000
DTEND;TZID=America/Vancouver:20250510T203000
DTSTAMP:20260419T130457
CREATED:20250504T044644Z
LAST-MODIFIED:20250504T044644Z
UID:7806-1746898200-1746909000@ranjsingh.com
SUMMARY:Gracie's Next Door
DESCRIPTION:Whether unwinding after work or looking for a night out\, Gracies’ cozy room and bar is the perfect setting. Private bookings are available for large groups. Make your way down for live music on Friday and Saturday nights\, and Sunday brunch and don’t forget to bring a friend!
URL:https://ranjsingh.com/event/gracies-next-door-47/
LOCATION:Gracie’s Next Door\, 1127 56th Street\, Delta\, Delta\, BC\, Canada
END:VEVENT
BEGIN:VEVENT
DTSTART;TZID=America/Vancouver:20250509T110000
DTEND;TZID=America/Vancouver:20250509T130000
DTSTAMP:20260419T130457
CREATED:20250504T044427Z
LAST-MODIFIED:20250504T044427Z
UID:7804-1746788400-1746795600@ranjsingh.com
SUMMARY:Seniors Home\, Langley (Private Event)
DESCRIPTION:Getting to perform at a seniors home in Langley. Private event.
URL:https://ranjsingh.com/event/seniors-home-langley-private-event-2/
LOCATION:BC
END:VEVENT
BEGIN:VEVENT
DTSTART;TZID=America/Vancouver:20250508T193000
DTEND;TZID=America/Vancouver:20250508T220000
DTSTAMP:20260419T130457
CREATED:20250504T044315Z
LAST-MODIFIED:20250504T044315Z
UID:7802-1746732600-1746741600@ranjsingh.com
SUMMARY:Mr Mikes Steakhouse\, Merritt
DESCRIPTION:I’ll be performing at Mr Mikes Steakhouse in Merritt from\n\nBuilt on the definition of unpretentious\, MR MIKES SteakhouseCasual offers great\, affordable food and drink selections in an environment that lets you be you.
URL:https://ranjsingh.com/event/mr-mikes-steakhouse-merritt-2/
LOCATION:Mr Mikes Steakhouse\, Merritt\, 3969 Crawford Avenue\, Merritt\, BC\, V1K 0A4\, Canada
END:VEVENT
BEGIN:VEVENT
DTSTART;TZID=America/Vancouver:20250504T110000
DTEND;TZID=America/Vancouver:20250504T120000
DTSTAMP:20260419T130457
CREATED:20250504T044004Z
LAST-MODIFIED:20250504T044004Z
UID:7800-1746356400-1746360000@ranjsingh.com
SUMMARY:Burnaby Blooms
DESCRIPTION:On May 4\, I’ll be performing at Burnaby Blooms from 11am to 11:45am.\n\nBe inspired by stunning flowers\, plants and natural materials at one of Burnaby’s favourite spring festivals\, Burnaby Blooms at Deer Lake. The City of Burnaby is excited to invite you to this family-friendly festival where you’ll get the chance to enjoy eco-art installations\, workshops\, children’s performers\, tours\, plant sales and more!\n\nEntertainment on site will include roving performers\, live music and a fabulous kid’s stage featuring free family-friendly entertainment. Food trucks will also be on site to keep everyone nourished and ready for more fun and exploration.\n\nThe City is committed to holding unique\, diverse and free events that create unforgettable experiences for everyone. Through events such as Burnaby Blooms\, we promote sustainability and the ecological health of our community in a fun and creative way.\n\nEvent kicks off Sunday\, May 4 from 11 am to 4 pm.\n\nVisit Burnaby.ca/Blooms for a full event schedule.
URL:https://ranjsingh.com/event/burnaby-blooms/
LOCATION:BC
END:VEVENT
BEGIN:VEVENT
DTSTART;TZID=America/Vancouver:20250503T160000
DTEND;TZID=America/Vancouver:20250503T180000
DTSTAMP:20260419T130457
CREATED:20250504T043706Z
LAST-MODIFIED:20250504T043706Z
UID:7798-1746288000-1746295200@ranjsingh.com
SUMMARY:Birthday Party (Private Event)
DESCRIPTION:Private birthday party in Surrey\, bc.
URL:https://ranjsingh.com/event/birthday-party-private-event/
LOCATION:BC
END:VEVENT
BEGIN:VEVENT
DTSTART;TZID=America/Vancouver:20250502T173000
DTEND;TZID=America/Vancouver:20250502T203000
DTSTAMP:20260419T130457
CREATED:20250504T043558Z
LAST-MODIFIED:20250504T043558Z
UID:7796-1746207000-1746217800@ranjsingh.com
SUMMARY:Gracie's Next Door
DESCRIPTION:Whether unwinding after work or looking for a night out\, Gracies’ cozy room and bar is the perfect setting. Private bookings are available for large groups. Make your way down for live music on Friday and Saturday nights\, and Sunday brunch and don’t forget to bring a friend!
URL:https://ranjsingh.com/event/gracies-next-door-46/
LOCATION:Gracie’s Next Door\, 1127 56th Street\, Delta\, Delta\, BC\, Canada
END:VEVENT
BEGIN:VEVENT
DTSTART;TZID=America/Vancouver:20250430T140000
DTEND;TZID=America/Vancouver:20250430T150000
DTSTAMP:20260419T130457
CREATED:20250331T061150Z
LAST-MODIFIED:20250331T061150Z
UID:7789-1746021600-1746025200@ranjsingh.com
SUMMARY:Seniors Home\, Surrey (Private Event)
DESCRIPTION:
URL:https://ranjsingh.com/event/seniors-home-surrey-private-event-3/
LOCATION:BC
END:VEVENT
BEGIN:VEVENT
DTSTART;TZID=America/Vancouver:20250427T110000
DTEND;TZID=America/Vancouver:20250427T130000
DTSTAMP:20260419T130457
CREATED:20250406T073032Z
LAST-MODIFIED:20250406T073032Z
UID:7793-1745751600-1745758800@ranjsingh.com
SUMMARY:Peace Arch Hospice Volunteer Appreciation Lunch (Private Event)
DESCRIPTION:
URL:https://ranjsingh.com/event/peace-arch-hospice-volunteer-appreciation-lunch-private-event/
LOCATION:BC
END:VEVENT
BEGIN:VEVENT
DTSTART;TZID=America/Vancouver:20250426T190000
DTEND;TZID=America/Vancouver:20250426T220000
DTSTAMP:20260419T130457
CREATED:20250331T061050Z
LAST-MODIFIED:20250331T061050Z
UID:7787-1745694000-1745704800@ranjsingh.com
SUMMARY:MIXT Lounge
DESCRIPTION:
URL:https://ranjsingh.com/event/mixt-lounge-4/
LOCATION:MIXT Lounge\, 15269 -104th Avenue\, Surrey\, BC\, Canada
END:VEVENT
BEGIN:VEVENT
DTSTART;TZID=America/Vancouver:20250425T203000
DTEND;TZID=America/Vancouver:20250425T223000
DTSTAMP:20260419T130457
CREATED:20250331T060916Z
LAST-MODIFIED:20250331T060916Z
UID:7785-1745613000-1745620200@ranjsingh.com
SUMMARY:Pat Quinn's Restaurant & Bar
DESCRIPTION:Pat Quinn’s Restaurant & Bar offers the best in global cuisine using local\, fresh ingredients served in a vibrant\, contemporary setting.Their service is attentive\, warm and unpretentious. The team is passionate about delivering food and experiences that will keep guests coming back again and again.\n\nThe character of the restaurant revolves around the namesake the legendary Pat Quinn – featuring warm wood tones\, intimate booths and iconic patios.\n\nLocated in sunny Tsawwassen\, the restaurant and patio overlooks the fairways of Tsawwassen Springs Golf Course with panoramic views of the towering North Shore mountains.\n\nThe steak\, seafood and casual fare offerings are complimented by a masterfully assembled wine and beer list as well as a full bar featuring classic cocktails.
URL:https://ranjsingh.com/event/pat-quinns-restaurant-bar-april-25/
LOCATION:Pat Quinn’s Restaurant & Bar\, 5133 Tsawwassen Springs\, Tsawwassen\, Tsawwassen\, BC\, Canada
END:VEVENT
BEGIN:VEVENT
DTSTART;TZID=America/Vancouver:20250419T173000
DTEND;TZID=America/Vancouver:20250419T203000
DTSTAMP:20260419T130457
CREATED:20250331T060717Z
LAST-MODIFIED:20250331T060717Z
UID:7783-1745083800-1745094600@ranjsingh.com
SUMMARY:Gracie's Next Door
DESCRIPTION:
URL:https://ranjsingh.com/event/gracies-next-door-45/
LOCATION:Gracie’s Next Door\, 1127 56th Street\, Delta\, Delta\, BC\, Canada
END:VEVENT
BEGIN:VEVENT
DTSTART;TZID=America/Vancouver:20250418T180000
DTEND;TZID=America/Vancouver:20250418T210000
DTSTAMP:20260419T130457
CREATED:20250331T060520Z
LAST-MODIFIED:20250331T060520Z
UID:7781-1744999200-1745010000@ranjsingh.com
SUMMARY:Newlands Golf & Country Club
DESCRIPTION:
URL:https://ranjsingh.com/event/newlands-golf-country-club-15/
LOCATION:Newland’s Golf & Country Club\, 21025 48 Avenue\, Langley\, Langley\, BC\, V3A 3M3\, Canada
END:VEVENT
BEGIN:VEVENT
DTSTART;TZID=America/Vancouver:20250417T180000
DTEND;TZID=America/Vancouver:20250417T210000
DTSTAMP:20260419T130457
CREATED:20250331T060320Z
LAST-MODIFIED:20250331T060320Z
UID:7779-1744912800-1744923600@ranjsingh.com
SUMMARY:Foamers' Folly Brewing Co.
DESCRIPTION:
URL:https://ranjsingh.com/event/foamers-folly-brewing-co-8/
LOCATION:Foamers’ Folly Brewing Co.\, 19221 122A Ave.\, Pitt Meadows\, Pitt Meadows\, BC\, V3V 2E9\, Canada
END:VEVENT
BEGIN:VEVENT
DTSTART;TZID=America/Vancouver:20250412T173000
DTEND;TZID=America/Vancouver:20250412T203000
DTSTAMP:20260419T130457
CREATED:20250331T060059Z
LAST-MODIFIED:20250331T060059Z
UID:7776-1744479000-1744489800@ranjsingh.com
SUMMARY:Gracie's Next Door
DESCRIPTION:
URL:https://ranjsingh.com/event/gracies-next-door-44/
LOCATION:Gracie’s Next Door\, 1127 56th Street\, Delta\, Delta\, BC\, Canada
END:VEVENT
BEGIN:VEVENT
DTSTART;TZID=America/Vancouver:20250411T183000
DTEND;TZID=America/Vancouver:20250411T213000
DTSTAMP:20260419T130457
CREATED:20250331T055910Z
LAST-MODIFIED:20250331T055910Z
UID:7774-1744396200-1744407000@ranjsingh.com
SUMMARY:Morrison Cafe & Bar\, Five Corners
DESCRIPTION:The Morrison Cafe is dedicated to providing freshest local food; using the best ingredients available\, with fresh fruits and vegetables that are delivered daily\, and using the highest quality bread and dairy products.
URL:https://ranjsingh.com/event/morrison-cafe-bar-five-corners-3/
LOCATION:Morrison Cafe & Bar\, Five Corners\, Unit 1 15223 Pacific Avenue\, White Rock\, BC\, V4B 1P8\, Canada
END:VEVENT
BEGIN:VEVENT
DTSTART;TZID=America/Vancouver:20250405T130000
DTEND;TZID=America/Vancouver:20250405T150000
DTSTAMP:20260419T130457
CREATED:20250331T061318Z
LAST-MODIFIED:20250331T061318Z
UID:7791-1743858000-1743865200@ranjsingh.com
SUMMARY:Joy Ross Celebration of Life (Private Event)
DESCRIPTION:Private event celebrating Joy Ross at the First United Spiritualist Church.
URL:https://ranjsingh.com/event/joy-ross-celebration-of-life-private-event/
LOCATION:BC
END:VEVENT
BEGIN:VEVENT
DTSTART;TZID=America/Vancouver:20250404T190000
DTEND;TZID=America/Vancouver:20250404T220000
DTSTAMP:20260419T130457
CREATED:20250331T055739Z
LAST-MODIFIED:20250331T055739Z
UID:7772-1743793200-1743804000@ranjsingh.com
SUMMARY:MIXT Lounge
DESCRIPTION:
URL:https://ranjsingh.com/event/mixt-lounge-april_4/
LOCATION:MIXT Lounge\, 15269 -104th Avenue\, Surrey\, BC\, Canada
END:VEVENT
BEGIN:VEVENT
DTSTART;TZID=America/Vancouver:20250403T190000
DTEND;TZID=America/Vancouver:20250403T220000
DTSTAMP:20260419T130457
CREATED:20250331T055539Z
LAST-MODIFIED:20250331T055539Z
UID:7770-1743706800-1743717600@ranjsingh.com
SUMMARY:MIXT Lounge
DESCRIPTION:
URL:https://ranjsingh.com/event/mixt-lounge-3/
LOCATION:MIXT Lounge\, 15269 -104th Avenue\, Surrey\, BC\, Canada
END:VEVENT
BEGIN:VEVENT
DTSTART;TZID=America/Vancouver:20250331T130000
DTEND;TZID=America/Vancouver:20250331T160000
DTSTAMP:20260419T130457
CREATED:20250225T045527Z
LAST-MODIFIED:20250225T045527Z
UID:7762-1743426000-1743436800@ranjsingh.com
SUMMARY:Senior's Home\, Tsawwassen
DESCRIPTION:Private event.
URL:https://ranjsingh.com/event/seniors-home-tsawwassen-5/
LOCATION:BC
END:VEVENT
BEGIN:VEVENT
DTSTART;TZID=America/Vancouver:20250329T173000
DTEND;TZID=America/Vancouver:20250329T203000
DTSTAMP:20260419T130457
CREATED:20250225T045427Z
LAST-MODIFIED:20250225T045427Z
UID:7759-1743269400-1743280200@ranjsingh.com
SUMMARY:Gracie's Next Door
DESCRIPTION:Whether unwinding after work or looking for a night out\, Gracies’ cozy room and bar is the perfect setting. Private bookings are available for large groups.
URL:https://ranjsingh.com/event/gracies-next-door-43/
LOCATION:Gracie’s Next Door\, 1127 56th Street\, Delta\, Delta\, BC\, Canada
END:VEVENT
BEGIN:VEVENT
DTSTART;TZID=America/Vancouver:20250328T180000
DTEND;TZID=America/Vancouver:20250328T210000
DTSTAMP:20260419T130457
CREATED:20250225T045255Z
LAST-MODIFIED:20250225T045255Z
UID:7757-1743184800-1743195600@ranjsingh.com
SUMMARY:Morrison Cafe & Bar\, Five Corners
DESCRIPTION:The Morrison Cafe is dedicated to providing freshest local food; using the best ingredients available\, with fresh fruits and vegetables that are delivered daily\, and using the highest quality bread and dairy products.
URL:https://ranjsingh.com/event/morrison-cafe-bar-five-corners-2/
LOCATION:Morrison Cafe & Bar\, Five Corners\, Unit 1 15223 Pacific Avenue\, White Rock\, BC\, V4B 1P8\, Canada
END:VEVENT
BEGIN:VEVENT
DTSTART;TZID=America/Vancouver:20250327T193000
DTEND;TZID=America/Vancouver:20250327T220000
DTSTAMP:20260419T130457
CREATED:20250225T044924Z
LAST-MODIFIED:20250225T044924Z
UID:7755-1743103800-1743112800@ranjsingh.com
SUMMARY:Mr Mikes Steakhouse\, Merritt
DESCRIPTION:Great food shared with friends and family\, a place to be social\, to enjoy each other’s company\, a place to experience small-town canadiana on a grander scale; this is MR MIKES!\n\nOver the past decade\, MR MIKES restaurants have embraced the heritage that was established back in 1960 and revitalized the brand by introducing the concept of SteakhouseCasual. “That word sounds made up!” shriek the masses. And you’re right! Because no one has ever done it before. But that’s how amazing things are created. We’re sure when someone suggested the concept of ‘bacon’\, people laughed. And now look how awesome bacon is!
URL:https://ranjsingh.com/event/mr-mikes-steakhouse-merritt/
LOCATION:Mr Mikes Steakhouse\, Merritt\, 3969 Crawford Avenue\, Merritt\, BC\, V1K 0A4\, Canada
END:VEVENT
BEGIN:VEVENT
DTSTART;VALUE=DATE:20250311
DTEND;VALUE=DATE:20250326
DTSTAMP:20260419T130457
CREATED:20250225T043833Z
LAST-MODIFIED:20250225T043833Z
UID:7745-1741651200-1742947199@ranjsingh.com
SUMMARY:Not Available
DESCRIPTION:
URL:https://ranjsingh.com/event/not-available/
LOCATION:BC
END:VEVENT
BEGIN:VEVENT
DTSTART;TZID=America/Vancouver:20250307T203000
DTEND;TZID=America/Vancouver:20250307T223000
DTSTAMP:20260419T130457
CREATED:20250225T044618Z
LAST-MODIFIED:20250225T044618Z
UID:7753-1741379400-1741386600@ranjsingh.com
SUMMARY:Pat Quinn's Restaurant & Bar
DESCRIPTION:Pat Quinn’s Restaurant & Bar offers the best in global cuisine using local\, fresh ingredients served in a vibrant\, contemporary setting.Their service is attentive\, warm and unpretentious. The team is passionate about delivering food and experiences that will keep guests coming back again and again.\n\nThe character of the restaurant revolves around the namesake the legendary Pat Quinn – featuring warm wood tones\, intimate booths and iconic patios.\n\nLocated in sunny Tsawwassen\, the restaurant and patio overlooks the fairways of Tsawwassen Springs Golf Course with panoramic views of the towering North Shore mountains.\n\nThe steak\, seafood and casual fare offerings are complimented by a masterfully assembled wine and beer list as well as a full bar featuring classic cocktails.
URL:https://ranjsingh.com/event/pat-quinns-restaurant-bar/
LOCATION:Pat Quinn’s Restaurant & Bar\, 5133 Tsawwassen Springs\, Tsawwassen\, Tsawwassen\, BC\, Canada
END:VEVENT
BEGIN:VEVENT
DTSTART;TZID=America/Vancouver:20250306T170000
DTEND;TZID=America/Vancouver:20250306T200000
DTSTAMP:20260419T130457
CREATED:20250225T044345Z
LAST-MODIFIED:20250225T044345Z
UID:7751-1741280400-1741291200@ranjsingh.com
SUMMARY:Private Event\, Abbotsford
DESCRIPTION:Excited to play at this private event. Thank you VanHattan Entertainment.
URL:https://ranjsingh.com/event/private-event-abbotsford/
LOCATION:BC
END:VEVENT
BEGIN:VEVENT
DTSTART;TZID=America/Vancouver:20250305T130000
DTEND;TZID=America/Vancouver:20250305T150000
DTSTAMP:20260419T130457
CREATED:20250225T044219Z
LAST-MODIFIED:20250225T044219Z
UID:7749-1741179600-1741186800@ranjsingh.com
SUMMARY:Senior's Home\, Surrey
DESCRIPTION:
URL:https://ranjsingh.com/event/seniors-home-surrey/
LOCATION:BC
END:VEVENT
BEGIN:VEVENT
DTSTART;TZID=America/Vancouver:20250301T173000
DTEND;TZID=America/Vancouver:20250301T203000
DTSTAMP:20260419T130457
CREATED:20250225T044116Z
LAST-MODIFIED:20250225T044116Z
UID:7747-1740850200-1740861000@ranjsingh.com
SUMMARY:Gracie's Next Door
DESCRIPTION:Whether unwinding after work or looking for a night out\, Gracies’ cozy room and bar is the perfect setting. Private bookings are available for large groups.
URL:https://ranjsingh.com/event/gracies-next-door-42/
LOCATION:Gracie’s Next Door\, 1127 56th Street\, Delta\, Delta\, BC\, Canada
END:VEVENT
BEGIN:VEVENT
DTSTART;TZID=America/Vancouver:20250228T190000
DTEND;TZID=America/Vancouver:20250228T220000
DTSTAMP:20260419T130457
CREATED:20250127T041854Z
LAST-MODIFIED:20250127T042006Z
UID:7742-1740769200-1740780000@ranjsingh.com
SUMMARY:MIXT Lounge
DESCRIPTION:I’ll be performing at MIXT Lounge\, Bar & Restaurant at the Sheraton Guildford Hotel.
URL:https://ranjsingh.com/event/mixt-lounge-2/
LOCATION:MIXT Lounge\, 15269 -104th Avenue\, Surrey\, BC\, Canada
END:VEVENT
BEGIN:VEVENT
DTSTART;TZID=America/Vancouver:20250227T193000
DTEND;TZID=America/Vancouver:20250227T220000
DTSTAMP:20260419T130457
CREATED:20250127T041420Z
LAST-MODIFIED:20250127T041420Z
UID:7738-1740684600-1740693600@ranjsingh.com
SUMMARY:Mr. Mikes\, Merritt
DESCRIPTION:
URL:https://ranjsingh.com/event/mr-mikes-merritt/
LOCATION:Mr Mikes Steakhouse\, Merritt\, 3969 Crawford Avenue\, Merritt\, BC\, V1K 0A4\, Canada
END:VEVENT
END:VCALENDAR