BEGIN:VCALENDAR
VERSION:2.0
PRODID:-//RanjSingh.com - ECPv6.9.0//NONSGML v1.0//EN
CALSCALE:GREGORIAN
METHOD:PUBLISH
X-ORIGINAL-URL:https://ranjsingh.com
X-WR-CALDESC:Events for RanjSingh.com
REFRESH-INTERVAL;VALUE=DURATION:PT1H
X-Robots-Tag:noindex
X-PUBLISHED-TTL:PT1H
BEGIN:VTIMEZONE
TZID:America/Vancouver
BEGIN:DAYLIGHT
TZOFFSETFROM:-0800
TZOFFSETTO:-0700
TZNAME:PDT
DTSTART:20260308T100000
END:DAYLIGHT
BEGIN:STANDARD
TZOFFSETFROM:-0700
TZOFFSETTO:-0800
TZNAME:PST
DTSTART:20261101T090000
END:STANDARD
END:VTIMEZONE
BEGIN:VEVENT
DTSTART;TZID=America/Vancouver:20260206T203000
DTEND;TZID=America/Vancouver:20260206T223000
DTSTAMP:20260419T195431
CREATED:20260203T074615Z
LAST-MODIFIED:20260203T074615Z
UID:8164-1770409800-1770417000@ranjsingh.com
SUMMARY:Pat Quinn's Restaurant & Bar
DESCRIPTION:
URL:https://ranjsingh.com/event/pat-quinns-restaurant-bar-10/
LOCATION:Pat Quinn’s Restaurant & Bar\, 5133 Tsawwassen Springs\, Tsawwassen\, Tsawwassen\, BC\, Canada
END:VEVENT
BEGIN:VEVENT
DTSTART;TZID=America/Vancouver:20260207T173000
DTEND;TZID=America/Vancouver:20260207T203000
DTSTAMP:20260419T195431
CREATED:20260203T074653Z
LAST-MODIFIED:20260203T074653Z
UID:8166-1770485400-1770496200@ranjsingh.com
SUMMARY:Gracie's Next Door
DESCRIPTION:
URL:https://ranjsingh.com/event/gracies-next-door-68/
LOCATION:Gracie’s Next Door\, 1127 56th Street\, Delta\, Delta\, BC\, Canada
END:VEVENT
BEGIN:VEVENT
DTSTART;TZID=America/Vancouver:20260211T213000
DTEND;TZID=America/Vancouver:20260211T233000
DTSTAMP:20260419T195431
CREATED:20260203T074753Z
LAST-MODIFIED:20260203T074753Z
UID:8168-1770845400-1770852600@ranjsingh.com
SUMMARY:Special Event at Minnoz Restaurant & Lounge
DESCRIPTION:Playing at the Coast Hotels Conference.
URL:https://ranjsingh.com/event/special-event-at-minnoz-restaurant-lounge/
LOCATION:Minnoz Restaurant & Lounge\, 11 Bastion Street\, Nanaimo\, BC\, V6E 2P4
END:VEVENT
BEGIN:VEVENT
DTSTART;TZID=America/Vancouver:20260213T180000
DTEND;TZID=America/Vancouver:20260213T210000
DTSTAMP:20260419T195431
CREATED:20260203T074902Z
LAST-MODIFIED:20260203T074902Z
UID:8170-1771005600-1771016400@ranjsingh.com
SUMMARY:Morrison Cafe & Bar\, Five Corners
DESCRIPTION:
URL:https://ranjsingh.com/event/morrison-cafe-bar-five-corners-12/
LOCATION:Morrison Cafe & Bar\, Five Corners\, Unit 1 15223 Pacific Avenue\, White Rock\, BC\, V4B 1P8\, Canada
END:VEVENT
BEGIN:VEVENT
DTSTART;TZID=America/Vancouver:20260214T170000
DTEND;TZID=America/Vancouver:20260214T200000
DTSTAMP:20260419T195431
CREATED:20260203T074942Z
LAST-MODIFIED:20260203T074942Z
UID:8172-1771088400-1771099200@ranjsingh.com
SUMMARY:Smugglers Trail
DESCRIPTION:
URL:https://ranjsingh.com/event/smugglers-trail-2/
LOCATION:Smugglers Trail Caseworks (Brewery & Kitchen)\, Unit 140 9339 200A Street\, Langley Twp\, Fort Langley\, BC\, V1M 0B3\, Canada
END:VEVENT
BEGIN:VEVENT
DTSTART;TZID=America/Vancouver:20260220T173000
DTEND;TZID=America/Vancouver:20260220T203000
DTSTAMP:20260419T195431
CREATED:20260203T075120Z
LAST-MODIFIED:20260203T075120Z
UID:8174-1771608600-1771619400@ranjsingh.com
SUMMARY:Bayside Resort
DESCRIPTION:
URL:https://ranjsingh.com/event/bayside-resort/
LOCATION:Bayside Resort\, 240 Dogwood St\, Parksville\, BC\, V9P 1E1\, Canada
END:VEVENT
BEGIN:VEVENT
DTSTART;TZID=America/Vancouver:20260221T190000
DTEND;TZID=America/Vancouver:20260221T210000
DTSTAMP:20260419T195431
CREATED:20260203T075207Z
LAST-MODIFIED:20260203T075207Z
UID:8177-1771700400-1771707600@ranjsingh.com
SUMMARY:Minnoz Restaurant & Lounge
DESCRIPTION:
URL:https://ranjsingh.com/event/minnoz-restaurant-lounge-4/
LOCATION:Minnoz Restaurant & Lounge\, 11 Bastion Street\, Nanaimo\, BC\, V6E 2P4
END:VEVENT
BEGIN:VEVENT
DTSTART;TZID=America/Vancouver:20260225T140000
DTEND;TZID=America/Vancouver:20260225T150000
DTSTAMP:20260419T195431
CREATED:20260203T075248Z
LAST-MODIFIED:20260203T075248Z
UID:8179-1772028000-1772031600@ranjsingh.com
SUMMARY:Seniors Home\, Surrey
DESCRIPTION:
URL:https://ranjsingh.com/event/seniors-home-surrey-5/
LOCATION:BC
END:VEVENT
BEGIN:VEVENT
DTSTART;TZID=America/Vancouver:20260226T193000
DTEND;TZID=America/Vancouver:20260226T220000
DTSTAMP:20260419T195431
CREATED:20260203T075338Z
LAST-MODIFIED:20260203T075338Z
UID:8181-1772134200-1772143200@ranjsingh.com
SUMMARY:Mr Mikes Steakhouse\, Merritt
DESCRIPTION:
URL:https://ranjsingh.com/event/mr-mikes-steakhouse-merritt-8/
LOCATION:Mr Mikes Steakhouse\, Merritt\, 3969 Crawford Avenue\, Merritt\, BC\, V1K 0A4\, Canada
END:VEVENT
BEGIN:VEVENT
DTSTART;TZID=America/Vancouver:20260227T200000
DTEND;TZID=America/Vancouver:20260227T220000
DTSTAMP:20260419T195431
CREATED:20260203T075857Z
LAST-MODIFIED:20260203T075857Z
UID:8185-1772222400-1772229600@ranjsingh.com
SUMMARY:Trees Organic Coffee House
DESCRIPTION:I will be playing an approximate 30 minute set sometime between 8 and 10pm\, the performance order is determined the night of the show. This was one of my very first venues back in 2006\, I’m excited to be returning.
URL:https://ranjsingh.com/event/trees-organic-coffee-house/
LOCATION:Trees Organic Coffee House\, 450 Granville Street\, Vancouver\, BC\, Canada
END:VEVENT
BEGIN:VEVENT
DTSTART;TZID=America/Vancouver:20260228T170000
DTEND;TZID=America/Vancouver:20260228T200000
DTSTAMP:20260419T195431
CREATED:20260203T075432Z
LAST-MODIFIED:20260203T075432Z
UID:8183-1772298000-1772308800@ranjsingh.com
SUMMARY:Trails End - Cafe. Bistro. Taproom.
DESCRIPTION:
URL:https://ranjsingh.com/event/trails-end-cafe-bistro-taproom/
LOCATION:Trails End – Cafe. Taproom. Bistro.\, 100 23285 Billy Brown Road\, Langley Twp\, Langley Twp\, BC\, V1M 0C8\, Canada
END:VEVENT
BEGIN:VEVENT
DTSTART;TZID=America/Vancouver:20260305T190000
DTEND;TZID=America/Vancouver:20260305T210000
DTSTAMP:20260419T195431
CREATED:20260302T222342Z
LAST-MODIFIED:20260302T222342Z
UID:8188-1772737200-1772744400@ranjsingh.com
SUMMARY:Minnoz Restaurant & Lounge
DESCRIPTION:
URL:https://ranjsingh.com/event/minnoz-restaurant-lounge-5/
LOCATION:Minnoz Restaurant & Lounge\, 11 Bastion Street\, Nanaimo\, BC\, V6E 2P4
END:VEVENT
BEGIN:VEVENT
DTSTART;TZID=America/Vancouver:20260306T180000
DTEND;TZID=America/Vancouver:20260306T210000
DTSTAMP:20260419T195431
CREATED:20260302T222511Z
LAST-MODIFIED:20260302T222511Z
UID:8190-1772820000-1772830800@ranjsingh.com
SUMMARY:Newland's Golf & Country Club
DESCRIPTION:
URL:https://ranjsingh.com/event/newlands-golf-country-club-27/
LOCATION:Newland’s Golf & Country Club\, 21025 48 Avenue\, Langley\, Langley\, BC\, V3A 3M3\, Canada
END:VEVENT
BEGIN:VEVENT
DTSTART;TZID=America/Vancouver:20260313T193000
DTEND;TZID=America/Vancouver:20260313T210000
DTSTAMP:20260419T195431
CREATED:20260302T225055Z
LAST-MODIFIED:20260302T225055Z
UID:8192-1773430200-1773435600@ranjsingh.com
SUMMARY:Sunflower Cafe Crescent Beach
DESCRIPTION:An evening of original music only!!
URL:https://ranjsingh.com/event/sunflower-cafe-crescent-beach/
LOCATION:Sunflower Cafe\, 12310 Beecher St\, Surrey\, BC\, V4A 3A6\, Canada
END:VEVENT
BEGIN:VEVENT
DTSTART;TZID=America/Vancouver:20260314T173000
DTEND;TZID=America/Vancouver:20260314T203000
DTSTAMP:20260419T195431
CREATED:20260302T224929Z
LAST-MODIFIED:20260302T224929Z
UID:8195-1773509400-1773520200@ranjsingh.com
SUMMARY:Gracie's Next Door
DESCRIPTION:
URL:https://ranjsingh.com/event/gracies-next-door-69/
LOCATION:Gracie’s Next Door\, 1127 56th Street\, Delta\, Delta\, BC\, Canada
END:VEVENT
BEGIN:VEVENT
DTSTART;TZID=America/Vancouver:20260320T203000
DTEND;TZID=America/Vancouver:20260320T223000
DTSTAMP:20260419T195431
CREATED:20260302T225137Z
LAST-MODIFIED:20260302T225137Z
UID:8200-1774038600-1774045800@ranjsingh.com
SUMMARY:Pat Quinn's Restaurant & Bar
DESCRIPTION:
URL:https://ranjsingh.com/event/pat-quinns-restaurant-bar-11/
LOCATION:Pat Quinn’s Restaurant & Bar\, 5133 Tsawwassen Springs\, Tsawwassen\, Tsawwassen\, BC\, Canada
END:VEVENT
BEGIN:VEVENT
DTSTART;TZID=America/Vancouver:20260321T180000
DTEND;TZID=America/Vancouver:20260321T210000
DTSTAMP:20260419T195431
CREATED:20260302T225251Z
LAST-MODIFIED:20260302T225251Z
UID:8202-1774116000-1774126800@ranjsingh.com
SUMMARY:Morrison Cafe & Bar\, Five Corners
DESCRIPTION:
URL:https://ranjsingh.com/event/morrison-cafe-bar-five-corners-13/
LOCATION:Morrison Cafe & Bar\, Five Corners\, Unit 1 15223 Pacific Avenue\, White Rock\, BC\, V4B 1P8\, Canada
END:VEVENT
BEGIN:VEVENT
DTSTART;TZID=America/Vancouver:20260326T210000
DTEND;TZID=America/Vancouver:20260326T230000
DTSTAMP:20260419T195431
CREATED:20260302T230055Z
LAST-MODIFIED:20260302T230736Z
UID:8204-1774558800-1774566000@ranjsingh.com
SUMMARY:The Nanaimo Bar
DESCRIPTION:I will be playing 9pm til late!
URL:https://ranjsingh.com/event/the-nanaimo-bar/
LOCATION:The Nanaimo Bar\, 2-75 Front St\, Nanaimo\, BC\, V9R 5H9\, Canada
END:VEVENT
BEGIN:VEVENT
DTSTART;TZID=America/Vancouver:20260327T173000
DTEND;TZID=America/Vancouver:20260327T203000
DTSTAMP:20260419T195431
CREATED:20260302T230834Z
LAST-MODIFIED:20260302T230834Z
UID:8208-1774632600-1774643400@ranjsingh.com
SUMMARY:The Bayside Resort
DESCRIPTION:
URL:https://ranjsingh.com/event/the-bayside-resort/
LOCATION:Bayside Resort\, 240 Dogwood St\, Parksville\, BC\, V9P 1E1\, Canada
END:VEVENT
BEGIN:VEVENT
DTSTART;TZID=America/Vancouver:20260403T180000
DTEND;TZID=America/Vancouver:20260403T210000
DTSTAMP:20260419T195431
CREATED:20260327T232632Z
LAST-MODIFIED:20260327T232632Z
UID:8212-1775239200-1775250000@ranjsingh.com
SUMMARY:Newland's Golf & Country Club
DESCRIPTION:
URL:https://ranjsingh.com/event/newlands-golf-country-club-28/
LOCATION:Newland’s Golf & Country Club\, 21025 48 Avenue\, Langley\, Langley\, BC\, V3A 3M3\, Canada
END:VEVENT
BEGIN:VEVENT
DTSTART;TZID=America/Vancouver:20260409T140000
DTEND;TZID=America/Vancouver:20260409T160000
DTSTAMP:20260419T195431
CREATED:20260327T232705Z
LAST-MODIFIED:20260327T232705Z
UID:8214-1775743200-1775750400@ranjsingh.com
SUMMARY:Seniors Home\, Tsawwassen
DESCRIPTION:Private event.
URL:https://ranjsingh.com/event/seniors-home-tsawwassen-10/
LOCATION:BC
END:VEVENT
BEGIN:VEVENT
DTSTART;TZID=America/Vancouver:20260410T160000
DTEND;TZID=America/Vancouver:20260410T170000
DTSTAMP:20260419T195431
CREATED:20260327T232853Z
LAST-MODIFIED:20260327T232853Z
UID:8216-1775836800-1775840400@ranjsingh.com
SUMMARY:ALS Society Awards Dinner
DESCRIPTION:Private event.
URL:https://ranjsingh.com/event/als-society-awards-dinner/
LOCATION:Sheraton Vancouver Wall Centre\, 1000 Burrard Street\, Vancouver\, BC\, V6Z 2S3\, Canada
END:VEVENT
BEGIN:VEVENT
DTSTART;TZID=America/Vancouver:20260411T173000
DTEND;TZID=America/Vancouver:20260411T203000
DTSTAMP:20260419T195431
CREATED:20260327T232936Z
LAST-MODIFIED:20260327T232936Z
UID:8219-1775928600-1775939400@ranjsingh.com
SUMMARY:Gracie's Next Door
DESCRIPTION:
URL:https://ranjsingh.com/event/gracies-next-door-70/
LOCATION:Gracie’s Next Door\, 1127 56th Street\, Delta\, Delta\, BC\, Canada
END:VEVENT
BEGIN:VEVENT
DTSTART;TZID=America/Vancouver:20260415T210000
DTEND;TZID=America/Vancouver:20260415T233000
DTSTAMP:20260419T195431
CREATED:20260327T233026Z
LAST-MODIFIED:20260327T233026Z
UID:8221-1776286800-1776295800@ranjsingh.com
SUMMARY:Minnoz Restaurant & Lounge\, Special Event
DESCRIPTION:Open to the public!
URL:https://ranjsingh.com/event/minnoz-restaurant-lounge-special-event/
LOCATION:Minnoz Restaurant & Lounge\, 11 Bastion Street\, Nanaimo\, BC\, V6E 2P4
END:VEVENT
BEGIN:VEVENT
DTSTART;TZID=America/Vancouver:20260416T210000
DTEND;TZID=America/Vancouver:20260416T233000
DTSTAMP:20260419T195431
CREATED:20260415T014614Z
LAST-MODIFIED:20260415T014614Z
UID:8263-1776373200-1776382200@ranjsingh.com
SUMMARY:The Nanaimo Bar
DESCRIPTION:Will be performing 9pm to late!
URL:https://ranjsingh.com/event/the-nanaimo-bar-2/
LOCATION:The Nanaimo Bar\, 2-75 Front St\, Nanaimo\, BC\, V9R 5H9\, Canada
END:VEVENT
BEGIN:VEVENT
DTSTART;TZID=America/Vancouver:20260417T180000
DTEND;TZID=America/Vancouver:20260417T210000
DTSTAMP:20260419T195431
CREATED:20260327T233118Z
LAST-MODIFIED:20260407T044203Z
UID:8223-1776448800-1776459600@ranjsingh.com
SUMMARY:CANCELLED: Morrison Cafe & Bar\, Five Corners
DESCRIPTION:
URL:https://ranjsingh.com/event/morrison-cafe-bar-five-corners-14/
LOCATION:Morrison Cafe & Bar\, Five Corners\, Unit 1 15223 Pacific Avenue\, White Rock\, BC\, V4B 1P8\, Canada
END:VEVENT
BEGIN:VEVENT
DTSTART;TZID=America/Vancouver:20260418T173000
DTEND;TZID=America/Vancouver:20260418T203000
DTSTAMP:20260419T195431
CREATED:20260327T233210Z
LAST-MODIFIED:20260327T233210Z
UID:8225-1776533400-1776544200@ranjsingh.com
SUMMARY:The Bayside Resort
DESCRIPTION:
URL:https://ranjsingh.com/event/the-bayside-resort-2/
LOCATION:Bayside Resort\, 240 Dogwood St\, Parksville\, BC\, V9P 1E1\, Canada
END:VEVENT
BEGIN:VEVENT
DTSTART;TZID=America/Vancouver:20260421T130000
DTEND;TZID=America/Vancouver:20260421T150000
DTSTAMP:20260419T195431
CREATED:20260327T233238Z
LAST-MODIFIED:20260327T233238Z
UID:8227-1776776400-1776783600@ranjsingh.com
SUMMARY:Seniors Home\, Langley
DESCRIPTION:Private event
URL:https://ranjsingh.com/event/seniors-home-langley-3/
LOCATION:BC
END:VEVENT
BEGIN:VEVENT
DTSTART;TZID=America/Vancouver:20260423T193000
DTEND;TZID=America/Vancouver:20260423T220000
DTSTAMP:20260419T195431
CREATED:20260327T233622Z
LAST-MODIFIED:20260327T233622Z
UID:8229-1776972600-1776981600@ranjsingh.com
SUMMARY:Mr Mikes Steakhouse
DESCRIPTION:
URL:https://ranjsingh.com/event/mr-mikes-steakhouse-2/
LOCATION:Mr Mikes Steakhouse\, Merritt\, 3969 Crawford Avenue\, Merritt\, BC\, V1K 0A4\, Canada
END:VEVENT
BEGIN:VEVENT
DTSTART;TZID=America/Vancouver:20260424T173000
DTEND;TZID=America/Vancouver:20260424T203000
DTSTAMP:20260419T195431
CREATED:20260327T233658Z
LAST-MODIFIED:20260327T233658Z
UID:8231-1777051800-1777062600@ranjsingh.com
SUMMARY:Bayside Resort
DESCRIPTION:
URL:https://ranjsingh.com/event/bayside-resort-2/
LOCATION:Bayside Resort\, 240 Dogwood St\, Parksville\, BC\, V9P 1E1\, Canada
END:VEVENT
END:VCALENDAR