BEGIN:VCALENDAR
VERSION:2.0
PRODID:-//RanjSingh.com - ECPv6.9.0//NONSGML v1.0//EN
CALSCALE:GREGORIAN
METHOD:PUBLISH
X-ORIGINAL-URL:https://ranjsingh.com
X-WR-CALDESC:Events for RanjSingh.com
REFRESH-INTERVAL;VALUE=DURATION:PT1H
X-Robots-Tag:noindex
X-PUBLISHED-TTL:PT1H
BEGIN:VTIMEZONE
TZID:America/Vancouver
BEGIN:DAYLIGHT
TZOFFSETFROM:-0800
TZOFFSETTO:-0700
TZNAME:PDT
DTSTART:20190310T100000
END:DAYLIGHT
BEGIN:STANDARD
TZOFFSETFROM:-0700
TZOFFSETTO:-0800
TZNAME:PST
DTSTART:20191103T090000
END:STANDARD
BEGIN:DAYLIGHT
TZOFFSETFROM:-0800
TZOFFSETTO:-0700
TZNAME:PDT
DTSTART:20200308T100000
END:DAYLIGHT
BEGIN:STANDARD
TZOFFSETFROM:-0700
TZOFFSETTO:-0800
TZNAME:PST
DTSTART:20201101T090000
END:STANDARD
BEGIN:DAYLIGHT
TZOFFSETFROM:-0800
TZOFFSETTO:-0700
TZNAME:PDT
DTSTART:20210314T100000
END:DAYLIGHT
BEGIN:STANDARD
TZOFFSETFROM:-0700
TZOFFSETTO:-0800
TZNAME:PST
DTSTART:20211107T090000
END:STANDARD
BEGIN:DAYLIGHT
TZOFFSETFROM:-0800
TZOFFSETTO:-0700
TZNAME:PDT
DTSTART:20220313T100000
END:DAYLIGHT
BEGIN:STANDARD
TZOFFSETFROM:-0700
TZOFFSETTO:-0800
TZNAME:PST
DTSTART:20221106T090000
END:STANDARD
END:VTIMEZONE
BEGIN:VEVENT
DTSTART;TZID=America/Vancouver:20220813T160000
DTEND;TZID=America/Vancouver:20220813T190000
DTSTAMP:20260419T152457
CREATED:20220719T154614Z
LAST-MODIFIED:20220719T154614Z
UID:2726-1660406400-1660417200@ranjsingh.com
SUMMARY:@ Gracie's Next Door
DESCRIPTION:No cover\, great food!
URL:https://ranjsingh.com/event/gracies-next-door-10/
LOCATION:Gracie’s Next Door\, 1127 56th Street\, Delta\, Delta\, BC\, Canada
CATEGORIES:Shows
END:VEVENT
BEGIN:VEVENT
DTSTART;TZID=America/Vancouver:20220813T160000
DTEND;TZID=America/Vancouver:20220813T190000
DTSTAMP:20260419T152457
CREATED:20220719T154614Z
LAST-MODIFIED:20220719T154614Z
UID:4684-1660406400-1660417200@ranjsingh.com
SUMMARY:@ Gracie's Next Door
DESCRIPTION:No cover\, great food!
URL:https://ranjsingh.com/event/gracies-next-door-10-2/
LOCATION:Gracie’s Next Door\, 1127 56th Street\, Delta\, Delta\, BC\, Canada
CATEGORIES:Shows
END:VEVENT
BEGIN:VEVENT
DTSTART;TZID=America/Vancouver:20220714T160000
DTEND;TZID=America/Vancouver:20220714T190000
DTSTAMP:20260419T152457
CREATED:20220701T075747Z
LAST-MODIFIED:20220701T075747Z
UID:4657-1657814400-1657825200@ranjsingh.com
SUMMARY:@ Gracie's Next Door
DESCRIPTION:No cover\, great food!
URL:https://ranjsingh.com/event/gracies-next-door-9-2/
LOCATION:Gracie’s Next Door\, 1127 56th Street\, Delta\, Delta\, BC\, Canada
CATEGORIES:Shows
END:VEVENT
BEGIN:VEVENT
DTSTART;TZID=America/Vancouver:20220714T160000
DTEND;TZID=America/Vancouver:20220714T190000
DTSTAMP:20260419T152457
CREATED:20220701T075747Z
LAST-MODIFIED:20220701T075747Z
UID:5305-1657814400-1657825200@ranjsingh.com
SUMMARY:@ Gracie's Next Door
DESCRIPTION:No cover\, great food!
URL:https://ranjsingh.com/event/gracies-next-door-9-3/
LOCATION:Gracie’s Next Door\, 1127 56th Street\, Delta\, Delta\, BC\, Canada
CATEGORIES:Shows
END:VEVENT
BEGIN:VEVENT
DTSTART;TZID=America/Vancouver:20220714T160000
DTEND;TZID=America/Vancouver:20220714T190000
DTSTAMP:20260419T152457
CREATED:20220701T075747Z
LAST-MODIFIED:20220701T075747Z
UID:2662-1657814400-1657825200@ranjsingh.com
SUMMARY:@ Gracie's Next Door
DESCRIPTION:No cover\, great food!
URL:https://ranjsingh.com/event/gracies-next-door-9/
LOCATION:Gracie’s Next Door\, 1127 56th Street\, Delta\, Delta\, BC\, Canada
CATEGORIES:Shows
END:VEVENT
BEGIN:VEVENT
DTSTART;TZID=America/Vancouver:20220710T160000
DTEND;TZID=America/Vancouver:20220710T190000
DTSTAMP:20260419T152457
CREATED:20220701T075701Z
LAST-MODIFIED:20220701T075701Z
UID:5304-1657468800-1657479600@ranjsingh.com
SUMMARY:@ Gracie's Next Door
DESCRIPTION:No cover\, great food!
URL:https://ranjsingh.com/event/gracies-next-door-8-4/
LOCATION:Gracie’s Next Door\, 1127 56th Street\, Delta\, Delta\, BC\, Canada
CATEGORIES:Shows
END:VEVENT
BEGIN:VEVENT
DTSTART;TZID=America/Vancouver:20220710T160000
DTEND;TZID=America/Vancouver:20220710T190000
DTSTAMP:20260419T152457
CREATED:20220701T075701Z
LAST-MODIFIED:20220701T075701Z
UID:2660-1657468800-1657479600@ranjsingh.com
SUMMARY:@ Gracie's Next Door
DESCRIPTION:No cover\, great food!
URL:https://ranjsingh.com/event/gracies-next-door-8-2/
LOCATION:Gracie’s Next Door\, 1127 56th Street\, Delta\, Delta\, BC\, Canada
CATEGORIES:Shows
END:VEVENT
BEGIN:VEVENT
DTSTART;TZID=America/Vancouver:20220710T160000
DTEND;TZID=America/Vancouver:20220710T190000
DTSTAMP:20260419T152457
CREATED:20220701T075701Z
LAST-MODIFIED:20220701T075701Z
UID:4656-1657468800-1657479600@ranjsingh.com
SUMMARY:@ Gracie's Next Door
DESCRIPTION:No cover\, great food!
URL:https://ranjsingh.com/event/gracies-next-door-8-3/
LOCATION:Gracie’s Next Door\, 1127 56th Street\, Delta\, Delta\, BC\, Canada
CATEGORIES:Shows
END:VEVENT
BEGIN:VEVENT
DTSTART;TZID=America/Vancouver:20220626T160000
DTEND;TZID=America/Vancouver:20220626T190000
DTSTAMP:20260419T152457
CREATED:20220527T183042Z
LAST-MODIFIED:20220527T183042Z
UID:5283-1656259200-1656270000@ranjsingh.com
SUMMARY:@ Gracie's Next Door
DESCRIPTION:No cover\, great food!
URL:https://ranjsingh.com/event/gracies-next-door-7-4/
LOCATION:Gracie’s Next Door\, 1127 56th Street\, Delta\, Delta\, BC\, Canada
CATEGORIES:Shows
END:VEVENT
BEGIN:VEVENT
DTSTART;TZID=America/Vancouver:20220626T160000
DTEND;TZID=America/Vancouver:20220626T190000
DTSTAMP:20260419T152457
CREATED:20220527T183042Z
LAST-MODIFIED:20220527T183042Z
UID:3564-1656259200-1656270000@ranjsingh.com
SUMMARY:@ Gracie's Next Door
DESCRIPTION:No cover\, great food!
URL:https://ranjsingh.com/event/gracies-next-door-7-2/
LOCATION:Gracie’s Next Door\, 1127 56th Street\, Delta\, Delta\, BC\, Canada
CATEGORIES:Shows
END:VEVENT
BEGIN:VEVENT
DTSTART;TZID=America/Vancouver:20220626T160000
DTEND;TZID=America/Vancouver:20220626T190000
DTSTAMP:20260419T152457
CREATED:20220527T183042Z
LAST-MODIFIED:20220527T183042Z
UID:4635-1656259200-1656270000@ranjsingh.com
SUMMARY:@ Gracie's Next Door
DESCRIPTION:No cover\, great food!
URL:https://ranjsingh.com/event/gracies-next-door-7-3/
LOCATION:Gracie’s Next Door\, 1127 56th Street\, Delta\, Delta\, BC\, Canada
CATEGORIES:Shows
END:VEVENT
BEGIN:VEVENT
DTSTART;TZID=America/Vancouver:20220619T160000
DTEND;TZID=America/Vancouver:20220619T190000
DTSTAMP:20260419T152457
CREATED:20220527T183015Z
LAST-MODIFIED:20220527T183015Z
UID:5282-1655654400-1655665200@ranjsingh.com
SUMMARY:@ Gracie's Next Door
DESCRIPTION:No cover\, great food!
URL:https://ranjsingh.com/event/gracies-next-door-6-4/
LOCATION:Gracie’s Next Door\, 1127 56th Street\, Delta\, Delta\, BC\, Canada
CATEGORIES:Shows
END:VEVENT
BEGIN:VEVENT
DTSTART;TZID=America/Vancouver:20220619T160000
DTEND;TZID=America/Vancouver:20220619T190000
DTSTAMP:20260419T152457
CREATED:20220527T183015Z
LAST-MODIFIED:20220527T183015Z
UID:3563-1655654400-1655665200@ranjsingh.com
SUMMARY:@ Gracie's Next Door
DESCRIPTION:No cover\, great food!
URL:https://ranjsingh.com/event/gracies-next-door-6-2/
LOCATION:Gracie’s Next Door\, 1127 56th Street\, Delta\, Delta\, BC\, Canada
CATEGORIES:Shows
END:VEVENT
BEGIN:VEVENT
DTSTART;TZID=America/Vancouver:20220619T160000
DTEND;TZID=America/Vancouver:20220619T190000
DTSTAMP:20260419T152457
CREATED:20220527T183015Z
LAST-MODIFIED:20220527T183015Z
UID:4634-1655654400-1655665200@ranjsingh.com
SUMMARY:@ Gracie's Next Door
DESCRIPTION:No cover\, great food!
URL:https://ranjsingh.com/event/gracies-next-door-6-3/
LOCATION:Gracie’s Next Door\, 1127 56th Street\, Delta\, Delta\, BC\, Canada
CATEGORIES:Shows
END:VEVENT
BEGIN:VEVENT
DTSTART;TZID=America/Vancouver:20220619T160000
DTEND;TZID=America/Vancouver:20220619T190000
DTSTAMP:20260419T152457
CREATED:20220527T183015Z
LAST-MODIFIED:20220527T183015Z
UID:2597-1655654400-1655665200@ranjsingh.com
SUMMARY:@ Gracie's Next Door
DESCRIPTION:No cover\, great food!
URL:https://ranjsingh.com/event/gracies-next-door-6/
LOCATION:Gracie’s Next Door\, 1127 56th Street\, Delta\, Delta\, BC\, Canada
CATEGORIES:Shows
END:VEVENT
BEGIN:VEVENT
DTSTART;TZID=America/Vancouver:20220526T160000
DTEND;TZID=America/Vancouver:20220526T190000
DTSTAMP:20260419T152457
CREATED:20220520T045748Z
LAST-MODIFIED:20220520T045748Z
UID:2537-1653580800-1653591600@ranjsingh.com
SUMMARY:@ Gracie's Next Door
DESCRIPTION:No cover\, great food!
URL:https://ranjsingh.com/event/gracies-next-door-5/
LOCATION:Gracie’s Next Door\, 1127 56th Street\, Delta\, Delta\, BC\, Canada
CATEGORIES:Shows
END:VEVENT
BEGIN:VEVENT
DTSTART;TZID=America/Vancouver:20220526T160000
DTEND;TZID=America/Vancouver:20220526T190000
DTSTAMP:20260419T152457
CREATED:20220520T045748Z
LAST-MODIFIED:20220520T045748Z
UID:5262-1653580800-1653591600@ranjsingh.com
SUMMARY:@ Gracie's Next Door
DESCRIPTION:No cover\, great food!
URL:https://ranjsingh.com/event/gracies-next-door-5-4/
LOCATION:Gracie’s Next Door\, 1127 56th Street\, Delta\, Delta\, BC\, Canada
CATEGORIES:Shows
END:VEVENT
BEGIN:VEVENT
DTSTART;TZID=America/Vancouver:20220526T160000
DTEND;TZID=America/Vancouver:20220526T190000
DTSTAMP:20260419T152457
CREATED:20220520T045748Z
LAST-MODIFIED:20220520T045748Z
UID:3543-1653580800-1653591600@ranjsingh.com
SUMMARY:@ Gracie's Next Door
DESCRIPTION:No cover\, great food!
URL:https://ranjsingh.com/event/gracies-next-door-5-2/
LOCATION:Gracie’s Next Door\, 1127 56th Street\, Delta\, Delta\, BC\, Canada
CATEGORIES:Shows
END:VEVENT
BEGIN:VEVENT
DTSTART;TZID=America/Vancouver:20220526T160000
DTEND;TZID=America/Vancouver:20220526T190000
DTSTAMP:20260419T152457
CREATED:20220520T045748Z
LAST-MODIFIED:20220520T045748Z
UID:4614-1653580800-1653591600@ranjsingh.com
SUMMARY:@ Gracie's Next Door
DESCRIPTION:No cover\, great food!
URL:https://ranjsingh.com/event/gracies-next-door-5-3/
LOCATION:Gracie’s Next Door\, 1127 56th Street\, Delta\, Delta\, BC\, Canada
CATEGORIES:Shows
END:VEVENT
BEGIN:VEVENT
DTSTART;TZID=America/Vancouver:20211218T130000
DTEND;TZID=America/Vancouver:20211218T160000
DTSTAMP:20260419T152457
CREATED:20191023T002904Z
LAST-MODIFIED:20191023T002904Z
UID:4570-1639832400-1639843200@ranjsingh.com
SUMMARY:Paddlewheeler Pub
DESCRIPTION:Playing to the pub crowd. Great food and drinks!
URL:https://ranjsingh.com/event/paddlewheeler-pub-7-2-3-2-2-2-2-4/
LOCATION:Paddlewheeler Pub\, 810 Quayside Drive\, New Westminster\, BC\, V3M 6B9\, Canada
CATEGORIES:Shows
END:VEVENT
BEGIN:VEVENT
DTSTART;TZID=America/Vancouver:20211218T130000
DTEND;TZID=America/Vancouver:20211218T160000
DTSTAMP:20260419T152457
CREATED:20191023T002904Z
LAST-MODIFIED:20191023T002904Z
UID:2390-1639832400-1639843200@ranjsingh.com
SUMMARY:Paddlewheeler Pub
DESCRIPTION:Playing to the pub crowd. Great food and drinks!
URL:https://ranjsingh.com/event/paddlewheeler-pub-7-2-3-2-2-2-2/
LOCATION:Paddlewheeler Pub\, 810 Quayside Drive\, New Westminster\, BC\, V3M 6B9\, Canada
CATEGORIES:Shows
END:VEVENT
BEGIN:VEVENT
DTSTART;TZID=America/Vancouver:20211218T130000
DTEND;TZID=America/Vancouver:20211218T160000
DTSTAMP:20260419T152457
CREATED:20191023T002904Z
LAST-MODIFIED:20191023T002904Z
UID:5218-1639832400-1639843200@ranjsingh.com
SUMMARY:Paddlewheeler Pub
DESCRIPTION:Playing to the pub crowd. Great food and drinks!
URL:https://ranjsingh.com/event/paddlewheeler-pub-7-2-3-2-2-2-2-5/
LOCATION:Paddlewheeler Pub\, 810 Quayside Drive\, New Westminster\, BC\, V3M 6B9\, Canada
CATEGORIES:Shows
END:VEVENT
BEGIN:VEVENT
DTSTART;TZID=America/Vancouver:20211218T130000
DTEND;TZID=America/Vancouver:20211218T160000
DTSTAMP:20260419T152457
CREATED:20191023T002904Z
LAST-MODIFIED:20191023T002904Z
UID:3501-1639832400-1639843200@ranjsingh.com
SUMMARY:Paddlewheeler Pub
DESCRIPTION:Playing to the pub crowd. Great food and drinks!
URL:https://ranjsingh.com/event/paddlewheeler-pub-7-2-3-2-2-2-2-3/
LOCATION:Paddlewheeler Pub\, 810 Quayside Drive\, New Westminster\, BC\, V3M 6B9\, Canada
CATEGORIES:Shows
END:VEVENT
BEGIN:VEVENT
DTSTART;TZID=America/Vancouver:20191127T180000
DTEND;TZID=America/Vancouver:20191127T210000
DTSTAMP:20260419T152457
CREATED:20191023T003008Z
LAST-MODIFIED:20191023T003008Z
UID:4571-1574877600-1574888400@ranjsingh.com
SUMMARY:Paddlewheeler Pub Acoustic Wednesdays
DESCRIPTION:Playing to the pub crowd. Great food and drinks!
URL:https://ranjsingh.com/event/paddlewheeler-pub-7-2-3-2-2-2-2-2-3/
LOCATION:Paddlewheeler Pub\, 810 Quayside Drive\, New Westminster\, BC\, V3M 6B9\, Canada
CATEGORIES:Shows
END:VEVENT
BEGIN:VEVENT
DTSTART;TZID=America/Vancouver:20191127T180000
DTEND;TZID=America/Vancouver:20191127T210000
DTSTAMP:20260419T152457
CREATED:20191023T003008Z
LAST-MODIFIED:20191023T003008Z
UID:2392-1574877600-1574888400@ranjsingh.com
SUMMARY:Paddlewheeler Pub Acoustic Wednesdays
DESCRIPTION:Playing to the pub crowd. Great food and drinks!
URL:https://ranjsingh.com/event/paddlewheeler-pub-7-2-3-2-2-2-2-2/
LOCATION:Paddlewheeler Pub\, 810 Quayside Drive\, New Westminster\, BC\, V3M 6B9\, Canada
CATEGORIES:Shows
END:VEVENT
BEGIN:VEVENT
DTSTART;TZID=America/Vancouver:20191127T180000
DTEND;TZID=America/Vancouver:20191127T210000
DTSTAMP:20260419T152457
CREATED:20191023T003008Z
LAST-MODIFIED:20191023T003008Z
UID:5219-1574877600-1574888400@ranjsingh.com
SUMMARY:Paddlewheeler Pub Acoustic Wednesdays
DESCRIPTION:Playing to the pub crowd. Great food and drinks!
URL:https://ranjsingh.com/event/paddlewheeler-pub-7-2-3-2-2-2-2-2-4/
LOCATION:Paddlewheeler Pub\, 810 Quayside Drive\, New Westminster\, BC\, V3M 6B9\, Canada
CATEGORIES:Shows
END:VEVENT
BEGIN:VEVENT
DTSTART;TZID=America/Vancouver:20191127T180000
DTEND;TZID=America/Vancouver:20191127T210000
DTSTAMP:20260419T152457
CREATED:20191023T003008Z
LAST-MODIFIED:20191023T003008Z
UID:3502-1574877600-1574888400@ranjsingh.com
SUMMARY:Paddlewheeler Pub Acoustic Wednesdays
DESCRIPTION:Playing to the pub crowd. Great food and drinks!
URL:https://ranjsingh.com/event/paddlewheeler-pub-7-2-3-2-2-2-2-2-2/
LOCATION:Paddlewheeler Pub\, 810 Quayside Drive\, New Westminster\, BC\, V3M 6B9\, Canada
CATEGORIES:Shows
END:VEVENT
BEGIN:VEVENT
DTSTART;TZID=America/Vancouver:20190929T140000
DTEND;TZID=America/Vancouver:20190929T170000
DTSTAMP:20260419T152457
CREATED:20190908T173537Z
LAST-MODIFIED:20190908T173537Z
UID:4560-1569765600-1569776400@ranjsingh.com
SUMMARY:Paddlewheeler Pub Acoustic Sundays
DESCRIPTION:Playing to the pub crowd. Great food and drinks!
URL:https://ranjsingh.com/event/paddlewheeler-pub-7-2-3-2-2-2-4/
LOCATION:Paddlewheeler Pub\, 810 Quayside Drive\, New Westminster\, BC\, V3M 6B9\, Canada
CATEGORIES:Shows
END:VEVENT
BEGIN:VEVENT
DTSTART;TZID=America/Vancouver:20190929T140000
DTEND;TZID=America/Vancouver:20190929T170000
DTSTAMP:20260419T152457
CREATED:20190908T173537Z
LAST-MODIFIED:20190908T173537Z
UID:2364-1569765600-1569776400@ranjsingh.com
SUMMARY:Paddlewheeler Pub Acoustic Sundays
DESCRIPTION:Playing to the pub crowd. Great food and drinks!
URL:https://ranjsingh.com/event/paddlewheeler-pub-7-2-3-2-2-2/
LOCATION:Paddlewheeler Pub\, 810 Quayside Drive\, New Westminster\, BC\, V3M 6B9\, Canada
CATEGORIES:Shows
END:VEVENT
BEGIN:VEVENT
DTSTART;TZID=America/Vancouver:20190929T140000
DTEND;TZID=America/Vancouver:20190929T170000
DTSTAMP:20260419T152457
CREATED:20190908T173537Z
LAST-MODIFIED:20190908T173537Z
UID:5208-1569765600-1569776400@ranjsingh.com
SUMMARY:Paddlewheeler Pub Acoustic Sundays
DESCRIPTION:Playing to the pub crowd. Great food and drinks!
URL:https://ranjsingh.com/event/paddlewheeler-pub-7-2-3-2-2-2-5/
LOCATION:Paddlewheeler Pub\, 810 Quayside Drive\, New Westminster\, BC\, V3M 6B9\, Canada
CATEGORIES:Shows
END:VEVENT
END:VCALENDAR