BEGIN:VCALENDAR
VERSION:2.0
PRODID:-//RanjSingh.com - ECPv6.9.0//NONSGML v1.0//EN
CALSCALE:GREGORIAN
METHOD:PUBLISH
X-ORIGINAL-URL:https://ranjsingh.com
X-WR-CALDESC:Events for RanjSingh.com
REFRESH-INTERVAL;VALUE=DURATION:PT1H
X-Robots-Tag:noindex
X-PUBLISHED-TTL:PT1H
BEGIN:VTIMEZONE
TZID:America/Vancouver
BEGIN:DAYLIGHT
TZOFFSETFROM:-0800
TZOFFSETTO:-0700
TZNAME:PDT
DTSTART:20240310T100000
END:DAYLIGHT
BEGIN:STANDARD
TZOFFSETFROM:-0700
TZOFFSETTO:-0800
TZNAME:PST
DTSTART:20241103T090000
END:STANDARD
BEGIN:DAYLIGHT
TZOFFSETFROM:-0800
TZOFFSETTO:-0700
TZNAME:PDT
DTSTART:20250309T100000
END:DAYLIGHT
BEGIN:STANDARD
TZOFFSETFROM:-0700
TZOFFSETTO:-0800
TZNAME:PST
DTSTART:20251102T090000
END:STANDARD
END:VTIMEZONE
BEGIN:VEVENT
DTSTART;TZID=America/Vancouver:20241227T173000
DTEND;TZID=America/Vancouver:20241227T203000
DTSTAMP:20260419T080407
CREATED:20241129T065852Z
LAST-MODIFIED:20241129T065852Z
UID:7603-1735320600-1735331400@ranjsingh.com
SUMMARY:Gracie's Next Door
DESCRIPTION:No cover\, great food!
URL:https://ranjsingh.com/event/gracies-next-door-dec-27-2024/
LOCATION:Gracie’s Next Door\, 1127 56th Street\, Delta\, Delta\, BC\, Canada
CATEGORIES:Shows
END:VEVENT
BEGIN:VEVENT
DTSTART;TZID=America/Vancouver:20250104T173000
DTEND;TZID=America/Vancouver:20250104T203000
DTSTAMP:20260419T080407
CREATED:20250103T041045Z
LAST-MODIFIED:20250103T041045Z
UID:7644-1736011800-1736022600@ranjsingh.com
SUMMARY:Gracie's Next Door
DESCRIPTION:No cover\, great food!
URL:https://ranjsingh.com/event/gracies-next-door-jan-4-2025/
LOCATION:Gracie’s Next Door\, 1127 56th Street\, Delta\, Delta\, BC\, Canada
CATEGORIES:Shows
END:VEVENT
BEGIN:VEVENT
DTSTART;TZID=America/Vancouver:20250118T173000
DTEND;TZID=America/Vancouver:20250118T203000
DTSTAMP:20260419T080407
CREATED:20250103T041338Z
LAST-MODIFIED:20250103T041338Z
UID:7651-1737221400-1737232200@ranjsingh.com
SUMMARY:Gracie's Next Door
DESCRIPTION:No cover\, great food!
URL:https://ranjsingh.com/event/gracies-next-door-jan-18-2025/
LOCATION:Gracie’s Next Door\, 1127 56th Street\, Delta\, Delta\, BC\, Canada
CATEGORIES:Shows
END:VEVENT
BEGIN:VEVENT
DTSTART;TZID=America/Vancouver:20250124T173000
DTEND;TZID=America/Vancouver:20250124T203000
DTSTAMP:20260419T080407
CREATED:20250103T041406Z
LAST-MODIFIED:20250103T041406Z
UID:7653-1737739800-1737750600@ranjsingh.com
SUMMARY:Gracie's Next Door
DESCRIPTION:No cover\, great food!
URL:https://ranjsingh.com/event/gracies-next-door-jan-24-2025/
LOCATION:Gracie’s Next Door\, 1127 56th Street\, Delta\, Delta\, BC\, Canada
CATEGORIES:Shows
END:VEVENT
BEGIN:VEVENT
DTSTART;TZID=America/Vancouver:20250131T173000
DTEND;TZID=America/Vancouver:20250131T203000
DTSTAMP:20260419T080407
CREATED:20250103T041431Z
LAST-MODIFIED:20250127T035721Z
UID:7655-1738344600-1738355400@ranjsingh.com
SUMMARY:Gracie's Next Door
DESCRIPTION:No cover\, great food!
URL:https://ranjsingh.com/event/gracies-next-door-jan-31-2025/
LOCATION:Gracie’s Next Door\, 1127 56th Street\, Delta\, Delta\, BC\, Canada
CATEGORIES:Shows
END:VEVENT
END:VCALENDAR