BEGIN:VCALENDAR
VERSION:2.0
PRODID:-//RanjSingh.com - ECPv6.9.0//NONSGML v1.0//EN
CALSCALE:GREGORIAN
METHOD:PUBLISH
X-ORIGINAL-URL:https://ranjsingh.com
X-WR-CALDESC:Events for RanjSingh.com
REFRESH-INTERVAL;VALUE=DURATION:PT1H
X-Robots-Tag:noindex
X-PUBLISHED-TTL:PT1H
BEGIN:VTIMEZONE
TZID:America/Vancouver
BEGIN:DAYLIGHT
TZOFFSETFROM:-0800
TZOFFSETTO:-0700
TZNAME:PDT
DTSTART:20240310T100000
END:DAYLIGHT
BEGIN:STANDARD
TZOFFSETFROM:-0700
TZOFFSETTO:-0800
TZNAME:PST
DTSTART:20241103T090000
END:STANDARD
END:VTIMEZONE
BEGIN:VEVENT
DTSTART;TZID=America/Vancouver:20240901T140000
DTEND;TZID=America/Vancouver:20240901T170000
DTSTAMP:20260420T191045
CREATED:20240829T025859Z
LAST-MODIFIED:20240829T025859Z
UID:7460-1725199200-1725210000@ranjsingh.com
SUMMARY:Gracie's Next Door
DESCRIPTION:No cover\, great food!
URL:https://ranjsingh.com/event/gracies-next-door-sept-1/
LOCATION:Gracie’s Next Door\, 1127 56th Street\, Delta\, Delta\, BC\, Canada
CATEGORIES:Shows
END:VEVENT
BEGIN:VEVENT
DTSTART;TZID=America/Vancouver:20240907T160000
DTEND;TZID=America/Vancouver:20240907T190000
DTSTAMP:20260420T191045
CREATED:20240829T030215Z
LAST-MODIFIED:20240829T030215Z
UID:7466-1725724800-1725735600@ranjsingh.com
SUMMARY:Gracie's Next Door
DESCRIPTION:No cover\, great food!
URL:https://ranjsingh.com/event/gracies-next-door-sept-7/
LOCATION:Gracie’s Next Door\, 1127 56th Street\, Delta\, Delta\, BC\, Canada
CATEGORIES:Shows
END:VEVENT
BEGIN:VEVENT
DTSTART;TZID=America/Vancouver:20240914T160000
DTEND;TZID=America/Vancouver:20240914T190000
DTSTAMP:20260420T191045
CREATED:20240829T030244Z
LAST-MODIFIED:20240829T030244Z
UID:7468-1726329600-1726340400@ranjsingh.com
SUMMARY:Gracie's Next Door
DESCRIPTION:No cover\, great food!
URL:https://ranjsingh.com/event/gracies-next-door-sept-14/
LOCATION:Gracie’s Next Door\, 1127 56th Street\, Delta\, Delta\, BC\, Canada
CATEGORIES:Shows
END:VEVENT
BEGIN:VEVENT
DTSTART;TZID=America/Vancouver:20240921T160000
DTEND;TZID=America/Vancouver:20240921T190000
DTSTAMP:20260420T191045
CREATED:20240829T030329Z
LAST-MODIFIED:20240829T030329Z
UID:7470-1726934400-1726945200@ranjsingh.com
SUMMARY:Gracie's Next Door
DESCRIPTION:No cover\, great food!
URL:https://ranjsingh.com/event/gracies-next-door-sept-21/
LOCATION:Gracie’s Next Door\, 1127 56th Street\, Delta\, Delta\, BC\, Canada
CATEGORIES:Shows
END:VEVENT
BEGIN:VEVENT
DTSTART;TZID=America/Vancouver:20240924T180000
DTEND;TZID=America/Vancouver:20240924T210000
DTSTAMP:20260420T191045
CREATED:20240829T031339Z
LAST-MODIFIED:20240829T031339Z
UID:7490-1727200800-1727211600@ranjsingh.com
SUMMARY:Field House Brewing\, Chilliwack
DESCRIPTION:Performing live at Field House Brewing at District 1881 in Chilliwack\, BC!
URL:https://ranjsingh.com/event/field-house-brewing-chilliwack-sept-24/
LOCATION:Field House Brewing Chilliwack\, 102 9251 Woolly Dog Alley\, Chilliwack\, Chilliwack\, BC\, Canada
CATEGORIES:Shows
END:VEVENT
END:VCALENDAR