BEGIN:VCALENDAR
VERSION:2.0
PRODID:-//RanjSingh.com - ECPv6.9.0//NONSGML v1.0//EN
CALSCALE:GREGORIAN
METHOD:PUBLISH
X-ORIGINAL-URL:https://ranjsingh.com
X-WR-CALDESC:Events for RanjSingh.com
REFRESH-INTERVAL;VALUE=DURATION:PT1H
X-Robots-Tag:noindex
X-PUBLISHED-TTL:PT1H
BEGIN:VTIMEZONE
TZID:America/Vancouver
BEGIN:DAYLIGHT
TZOFFSETFROM:-0800
TZOFFSETTO:-0700
TZNAME:PDT
DTSTART:20260308T100000
END:DAYLIGHT
BEGIN:STANDARD
TZOFFSETFROM:-0700
TZOFFSETTO:-0800
TZNAME:PST
DTSTART:20261101T090000
END:STANDARD
END:VTIMEZONE
BEGIN:VEVENT
DTSTART;TZID=America/Vancouver:20260514T143000
DTEND;TZID=America/Vancouver:20260514T153000
DTSTAMP:20260422T204326
CREATED:20260327T234204Z
LAST-MODIFIED:20260327T234204Z
UID:8239-1778769000-1778772600@ranjsingh.com
SUMMARY:Senior's Home\, Langley
DESCRIPTION:
URL:https://ranjsingh.com/event/seniors-home-langley-4/
LOCATION:BC
END:VEVENT
END:VCALENDAR