BEGIN:VCALENDAR
VERSION:2.0
PRODID:-//RanjSingh.com - ECPv6.9.0//NONSGML v1.0//EN
CALSCALE:GREGORIAN
METHOD:PUBLISH
X-WR-CALNAME:RanjSingh.com
X-ORIGINAL-URL:https://ranjsingh.com
X-WR-CALDESC:Events for RanjSingh.com
REFRESH-INTERVAL;VALUE=DURATION:PT1H
X-Robots-Tag:noindex
X-PUBLISHED-TTL:PT1H
BEGIN:VTIMEZONE
TZID:America/Vancouver
BEGIN:DAYLIGHT
TZOFFSETFROM:-0800
TZOFFSETTO:-0700
TZNAME:PDT
DTSTART:20260308T100000
END:DAYLIGHT
BEGIN:STANDARD
TZOFFSETFROM:-0700
TZOFFSETTO:-0800
TZNAME:PST
DTSTART:20261101T090000
END:STANDARD
END:VTIMEZONE
BEGIN:VEVENT
DTSTART;TZID=America/Vancouver:20260425T120000
DTEND;TZID=America/Vancouver:20260425T123000
DTSTAMP:20260421T165758
CREATED:20260327T234032Z
LAST-MODIFIED:20260327T234032Z
UID:8233-1777118400-1777120200@ranjsingh.com
SUMMARY:Party For The Planet
DESCRIPTION:BC’s largest Earth Day Celebration returns for its 15th year at Civic Plaza in Surrey. Enjoy the plant sale\, sustainable market place\, salmon walk\, food trucks\, and kid friendly activities! No tickets required\, learn more at https://www.partyfortheplanet.ca/.
URL:https://ranjsingh.com/event/party-for-the-planet/
LOCATION:Surrey Civic Hall Plaza\, 10347 City Parkway\, Surrey\, BC\, Canada
END:VEVENT
END:VCALENDAR