BEGIN:VCALENDAR
VERSION:2.0
PRODID:-//RanjSingh.com - ECPv6.9.0//NONSGML v1.0//EN
CALSCALE:GREGORIAN
METHOD:PUBLISH
X-WR-CALNAME:RanjSingh.com
X-ORIGINAL-URL:https://ranjsingh.com
X-WR-CALDESC:Events for RanjSingh.com
REFRESH-INTERVAL;VALUE=DURATION:PT1H
X-Robots-Tag:noindex
X-PUBLISHED-TTL:PT1H
BEGIN:VTIMEZONE
TZID:America/Vancouver
BEGIN:DAYLIGHT
TZOFFSETFROM:-0800
TZOFFSETTO:-0700
TZNAME:PDT
DTSTART:20260308T100000
END:DAYLIGHT
BEGIN:STANDARD
TZOFFSETFROM:-0700
TZOFFSETTO:-0800
TZNAME:PST
DTSTART:20261101T090000
END:STANDARD
END:VTIMEZONE
BEGIN:VEVENT
DTSTART;TZID=America/Vancouver:20260131T170000
DTEND;TZID=America/Vancouver:20260131T200000
DTSTAMP:20260422T041543
CREATED:20260102T063544Z
LAST-MODIFIED:20260102T063544Z
UID:8161-1769878800-1769889600@ranjsingh.com
SUMMARY:Smugglers Trail
DESCRIPTION:
URL:https://ranjsingh.com/event/smugglers-trail/
LOCATION:Smugglers Trail Caseworks (Brewery & Kitchen)\, Unit 140 9339 200A Street\, Langley Twp\, Fort Langley\, BC\, V1M 0B3\, Canada
END:VEVENT
END:VCALENDAR