BEGIN:VCALENDAR
VERSION:2.0
PRODID:-//RanjSingh.com - ECPv6.9.0//NONSGML v1.0//EN
CALSCALE:GREGORIAN
METHOD:PUBLISH
X-WR-CALNAME:RanjSingh.com
X-ORIGINAL-URL:https://ranjsingh.com
X-WR-CALDESC:Events for RanjSingh.com
REFRESH-INTERVAL;VALUE=DURATION:PT1H
X-Robots-Tag:noindex
X-PUBLISHED-TTL:PT1H
BEGIN:VTIMEZONE
TZID:America/Vancouver
BEGIN:DAYLIGHT
TZOFFSETFROM:-0800
TZOFFSETTO:-0700
TZNAME:PDT
DTSTART:20250309T100000
END:DAYLIGHT
BEGIN:STANDARD
TZOFFSETFROM:-0700
TZOFFSETTO:-0800
TZNAME:PST
DTSTART:20251102T090000
END:STANDARD
END:VTIMEZONE
BEGIN:VEVENT
DTSTART;TZID=America/Vancouver:20251219T190000
DTEND;TZID=America/Vancouver:20251219T220000
DTSTAMP:20260420T202950
CREATED:20251125T234840Z
LAST-MODIFIED:20251125T234840Z
UID:8119-1766170800-1766181600@ranjsingh.com
SUMMARY:Newland's Golf & Country Club
DESCRIPTION:
URL:https://ranjsingh.com/event/newlands-golf-country-club-23/
LOCATION:Newland’s Golf & Country Club\, 21025 48 Avenue\, Langley\, Langley\, BC\, V3A 3M3\, Canada
END:VEVENT
END:VCALENDAR