BEGIN:VCALENDAR
VERSION:2.0
PRODID:-//RanjSingh.com - ECPv6.9.0//NONSGML v1.0//EN
CALSCALE:GREGORIAN
METHOD:PUBLISH
X-WR-CALNAME:RanjSingh.com
X-ORIGINAL-URL:https://ranjsingh.com
X-WR-CALDESC:Events for RanjSingh.com
REFRESH-INTERVAL;VALUE=DURATION:PT1H
X-Robots-Tag:noindex
X-PUBLISHED-TTL:PT1H
BEGIN:VTIMEZONE
TZID:America/Vancouver
BEGIN:DAYLIGHT
TZOFFSETFROM:-0800
TZOFFSETTO:-0700
TZNAME:PDT
DTSTART:20250309T100000
END:DAYLIGHT
BEGIN:STANDARD
TZOFFSETFROM:-0700
TZOFFSETTO:-0800
TZNAME:PST
DTSTART:20251102T090000
END:STANDARD
END:VTIMEZONE
BEGIN:VEVENT
DTSTART;TZID=America/Vancouver:20251213T120000
DTEND;TZID=America/Vancouver:20251213T150000
DTSTAMP:20260425T053158
CREATED:20251125T234352Z
LAST-MODIFIED:20251125T234352Z
UID:8107-1765627200-1765638000@ranjsingh.com
SUMMARY:Christmas Market\, Art’s Nursery Ltd.
DESCRIPTION:Every year for the holidays\, Art’s Nursery turns into an winter wonderland\, transforming their gift shop area and courtyard into a beautiful Christmas market with lights\, trees\, decorations\, and more. It’s truly a beautiful sight to see\, no matter if you’re coming to Art’s to shop or just to simply relax by one of their many fires! I’ll be performing from noon to 3pm. The layout of their Christmas Market\, it’s quite fun. There are two main sections\, one being indoor and one being outdoor. This is so\, no matter if you’re the person looking out the window or the person looking in on these cold December days\, they have something for you.
URL:https://ranjsingh.com/event/christmas-market-arts-nursery-ltd-3/
LOCATION:Art’s Nursery Ltd\, 8940 192nd Street\, Surrey\, Surrey\, BC\, Canada
END:VEVENT
END:VCALENDAR