BEGIN:VCALENDAR
VERSION:2.0
PRODID:-//RanjSingh.com - ECPv6.9.0//NONSGML v1.0//EN
CALSCALE:GREGORIAN
METHOD:PUBLISH
X-WR-CALNAME:RanjSingh.com
X-ORIGINAL-URL:https://ranjsingh.com
X-WR-CALDESC:Events for RanjSingh.com
REFRESH-INTERVAL;VALUE=DURATION:PT1H
X-Robots-Tag:noindex
X-PUBLISHED-TTL:PT1H
BEGIN:VTIMEZONE
TZID:America/Vancouver
BEGIN:DAYLIGHT
TZOFFSETFROM:-0800
TZOFFSETTO:-0700
TZNAME:PDT
DTSTART:20250309T100000
END:DAYLIGHT
BEGIN:STANDARD
TZOFFSETFROM:-0700
TZOFFSETTO:-0800
TZNAME:PST
DTSTART:20251102T090000
END:STANDARD
END:VTIMEZONE
BEGIN:VEVENT
DTSTART;TZID=America/Vancouver:20250712T140000
DTEND;TZID=America/Vancouver:20250712T170000
DTSTAMP:20260420T150221
CREATED:20250703T065936Z
LAST-MODIFIED:20250708T025701Z
UID:7893-1752328800-1752339600@ranjsingh.com
SUMMARY:Foamers' Folly Brewing Co.
DESCRIPTION:Special birthday event.
URL:https://ranjsingh.com/event/foamers-folly-brewing-co-10/
LOCATION:Foamers’ Folly Brewing Co.\, 19221 122A Ave.\, Pitt Meadows\, Pitt Meadows\, BC\, V3V 2E9\, Canada
END:VEVENT
END:VCALENDAR