BEGIN:VCALENDAR
VERSION:2.0
PRODID:-//RanjSingh.com - ECPv6.9.0//NONSGML v1.0//EN
CALSCALE:GREGORIAN
METHOD:PUBLISH
X-WR-CALNAME:RanjSingh.com
X-ORIGINAL-URL:https://ranjsingh.com
X-WR-CALDESC:Events for RanjSingh.com
REFRESH-INTERVAL;VALUE=DURATION:PT1H
X-Robots-Tag:noindex
X-PUBLISHED-TTL:PT1H
BEGIN:VTIMEZONE
TZID:America/Vancouver
BEGIN:DAYLIGHT
TZOFFSETFROM:-0800
TZOFFSETTO:-0700
TZNAME:PDT
DTSTART:20250309T100000
END:DAYLIGHT
BEGIN:STANDARD
TZOFFSETFROM:-0700
TZOFFSETTO:-0800
TZNAME:PST
DTSTART:20251102T090000
END:STANDARD
END:VTIMEZONE
BEGIN:VEVENT
DTSTART;TZID=America/Vancouver:20250614T090000
DTEND;TZID=America/Vancouver:20250614T110000
DTSTAMP:20260423T191151
CREATED:20250602T062227Z
LAST-MODIFIED:20250602T062227Z
UID:7845-1749891600-1749898800@ranjsingh.com
SUMMARY:Move To Cure ALS
DESCRIPTION:Please pledge or donate on their website: https://movetocurealsbc.donordrive.com/index.cfm?fuseaction=donorDrive.event&eventID=517.
URL:https://ranjsingh.com/event/move-to-cure-als/
LOCATION:Garry Point Park\, 12011 Seventh Avenue\, Richmond\, Richmond\, BC\, V7E 4X2\, Canada
END:VEVENT
BEGIN:VEVENT
DTSTART;TZID=America/Vancouver:20250614T173000
DTEND;TZID=America/Vancouver:20250614T203000
DTSTAMP:20260423T191151
CREATED:20250602T062354Z
LAST-MODIFIED:20250602T062354Z
UID:7847-1749922200-1749933000@ranjsingh.com
SUMMARY:Gracie's Next Door
DESCRIPTION:I’ll be playing from 5:30pm – 8:30pm. Whether unwinding after work or looking for a night out\, Gracies’ cozy room and bar is the perfect setting. Private bookings are available for large groups. Make your way down for live music on Friday and Saturday nights\, and Sunday brunch and don’t forget to bring a friend!
URL:https://ranjsingh.com/event/gracies-next-door-49/
LOCATION:Gracie’s Next Door\, 1127 56th Street\, Delta\, Delta\, BC\, Canada
END:VEVENT
END:VCALENDAR